BEGIN:VCALENDAR
VERSION:2.0
PRODID:-//ChamberMaster//Event Calendar 2.0//EN
METHOD:PUBLISH
X-PUBLISHED-TTL:P3D
REFRESH-INTERVAL:P3D
CALSCALE:GREGORIAN
BEGIN:VEVENT
DTSTART:20180827T020000Z
DTEND:20180827T030000Z
X-MICROSOFT-CDO-ALLDAYEVENT:FALSE
SUMMARY:Strategy Planning Call for Vietnam Cybersecurity and OTT Regulations
DESCRIPTION:Please join the Council for a call to discuss our strategy going forward on the Vietnamese Law on Cyber Security (LOCS) and over-the-top (OTT) regulations. The call will discuss the timelines and strategies for current opportunities for advocacy (as outlined in our recent Vietnam Legislative Update and Advocacy Action Plan here)\, and explore other opportunities to leverage our positions\, such as through the Indo-Pacific Economic Vision (IPEV)'s digital connectivity and cybersecurity partnership initiative.\n\n\n\nPlease contact Ella Duangkaew (eduangkaew@usasean.org) or Vu Tu Thanh (tvu@usasean.org) with any questions prior to the call.
X-ALT-DESC;FMTTYPE=text/html:Please join the Council for a call to discuss our strategy going forward on the Vietnamese Law on Cyber Security (LOCS) and over-the-top (OTT) regulations. The call will discuss the timelines and strategies for current opportunities for advocacy (as outlined in our recent Vietnam Legislative Update and Advocacy Action Plan <a href="https://www.usasean.org/article/2018/08/14/vietnam-legislative-update-and-advocacy-action-plan">here</a>)\, and explore other opportunities to leverage our positions\, such as through the Indo-Pacific Economic Vision (IPEV)&#39\;s digital connectivity and cybersecurity partnership initiative.<br />\n<br />\nPlease contact Ella Duangkaew (eduangkaew@usasean.org) or Vu Tu Thanh (tvu@usasean.org) with any questions prior to the call.&nbsp\;\n<p style="box-sizing: border-box\;box-sizing: border-box\; margin: 0px\;">&nbsp\;</p>\n
LOCATION:Dial-in details will be distributed to registrants prior to the call
UID:e.9078.7655
SEQUENCE:3
DTSTAMP:20260420T033733Z
URL:http://usasean.memberzone.com/events/details/strategy-planning-call-for-vietnam-cybersecurity-and-ott-regulations-7655
END:VEVENT

END:VCALENDAR
