BEGIN:VCALENDAR
VERSION:2.0
PRODID:-//ChamberMaster//Event Calendar 2.0//EN
METHOD:PUBLISH
X-PUBLISHED-TTL:P3D
REFRESH-INTERVAL:P3D
CALSCALE:GREGORIAN
BEGIN:VEVENT
DTSTART:20180709T090000Z
DTEND:20180709T100000Z
X-MICROSOFT-CDO-ALLDAYEVENT:FALSE
SUMMARY:Strategizing Meeting on Halal Implementation Regulation
DESCRIPTION:Please join us for a meeting in which the Council will provide important updates on the latest development of the Halal Implementing Regulation. We will also use this meeting to further strategize and coordinate advocacy plans on the Halal Implementing Regulation going forward. Members are advised to join the meeting in-person as dial-in option will not be available. Space is limited\, first-come first-serve. \n\n\n\nThis meeting is strictly for members only. Attendees that are not members will be denied entry. \n\n \n\nPlease contact Heidi Lepar for registration at heidi@usasean.org
X-ALT-DESC;FMTTYPE=text/html:<br />\nPlease join us for a meeting in which the Council will provide important updates on the latest development of the Halal Implementing Regulation. We will also use this meeting to further strategize and coordinate advocacy plans on the Halal Implementing Regulation going forward.&nbsp\;Members are advised to join the meeting in-person as dial-in option will not be available. Space is limited\, first-come first-serve.&nbsp\;<br />\n<br />\n<strong>This meeting is strictly for members only. Attendees that are not members will be denied entry.&nbsp\;</strong><br />\n&nbsp\;<br />\nPlease contact Heidi Lepar for registration at <u><a href="mailto:heidi@usasean.org">heidi@usasean.org</a></u>
LOCATION:Venue will be announced on Monday morning (Jakarta time) as you register to attend the meeting.
UID:e.9078.7618
SEQUENCE:3
DTSTAMP:20260420T015928Z
URL:http://usasean.memberzone.com/events/details/strategizing-meeting-on-halal-implementation-regulation-7618
END:VEVENT

END:VCALENDAR
