BEGIN:VCALENDAR
VERSION:2.0
PRODID:-//ChamberMaster//Event Calendar 2.0//EN
METHOD:PUBLISH
X-PUBLISHED-TTL:P3D
REFRESH-INTERVAL:P3D
CALSCALE:GREGORIAN
BEGIN:VEVENT
DTSTART:20200716T010000Z
DTEND:20200716T021500Z
X-MICROSOFT-CDO-ALLDAYEVENT:FALSE
SUMMARY:Standards Sub-Committee Call with Briefing by U.S. Commerce Department
DESCRIPTION:First Call for the Sub-Committee on Standards to discuss the sub-committee work plan and priorities.
X-ALT-DESC;FMTTYPE=text/html:First Call for the Sub-Committee on Standards to discuss the sub-committee work plan and priorities.
LOCATION:Webex Meeting
UID:e.9078.8244
SEQUENCE:3
DTSTAMP:20260424T050449Z
URL:http://usasean.memberzone.com/events/details/standards-sub-committee-call-with-briefing-by-u-s-commerce-department-8244
END:VEVENT

END:VCALENDAR
