BEGIN:VCALENDAR
VERSION:2.0
PRODID:-//ChamberMaster//Event Calendar 2.0//EN
METHOD:PUBLISH
X-PUBLISHED-TTL:P3D
REFRESH-INTERVAL:P3D
CALSCALE:GREGORIAN
BEGIN:VEVENT
DTSTART:20150514T220000Z
DTEND:20150515T000000Z
X-MICROSOFT-CDO-ALLDAYEVENT:FALSE
SUMMARY:Sponsorship Invitation - Reception for Minister of Commerce Sun Chanthol and U.S. Ambassador Todd
DESCRIPTION:Welcome Reception for Cambodian Minister of Commerce Sun Chanthol and U.S. Ambassador William E. Todd.
X-ALT-DESC;FMTTYPE=text/html:<font face="arial">Welcome Reception for Cambodian Minister of Commerce Sun Chanthol and U.S. Ambassador William E. Todd.&nbsp\;</font>
LOCATION:US-ASEAN Business Council 1101 17th Street\, NW Washington D.C.
UID:e.9078.1552
SEQUENCE:3
DTSTAMP:20260419T120927Z
URL:http://usasean.memberzone.com/events/details/sponsorship-invitation-reception-for-minister-of-commerce-sun-chanthol-and-u-s-ambassador-todd-05-14-2015-1552
END:VEVENT

END:VCALENDAR
