BEGIN:VCALENDAR
VERSION:2.0
PRODID:-//ChamberMaster//Event Calendar 2.0//EN
METHOD:PUBLISH
X-PUBLISHED-TTL:P3D
REFRESH-INTERVAL:P3D
CALSCALE:GREGORIAN
BEGIN:VEVENT
DTSTART:20121117T140000Z
DTEND:20121117T160000Z
X-MICROSOFT-CDO-ALLDAYEVENT:FALSE
SUMMARY:Speech by Secretary of State Hillary Rodham Clinton
DESCRIPTION:Secretary of State Hillary Rodham Clinton will deliver a major speech entitled\, "Delivering on the Promise of Economic Statecraft."
X-ALT-DESC;FMTTYPE=text/html:Secretary of State Hillary Rodham Clinton will deliver a major speech entitled\, &quot\;Delivering on the Promise of Economic Statecraft.&quot\;
LOCATION:Singapore Management University Mochtar Riady Auditorium\, 5th floor\, SMU Administration Building\, 81 Victoria Street Singapore
UID:e.9078.636
SEQUENCE:3
DTSTAMP:20260424T160153Z
URL:http://usasean.memberzone.com/events/details/speech-by-secretary-of-state-hillary-rodham-clinton-11-17-2012-636
END:VEVENT

END:VCALENDAR
