BEGIN:VCALENDAR
VERSION:2.0
PRODID:-//ChamberMaster//Event Calendar 2.0//EN
METHOD:PUBLISH
X-PUBLISHED-TTL:P3D
REFRESH-INTERVAL:P3D
CALSCALE:GREGORIAN
BEGIN:VEVENT
DTSTART:20140529T180000Z
DTEND:20140529T190000Z
X-MICROSOFT-CDO-ALLDAYEVENT:FALSE
SUMMARY:SOM II Coalition Briefing and ABAC II Briefing
DESCRIPTION:The U.S. APEC Business Coalition would like to invite you to join members of the U.S. business community for a briefing on the highlights and outcomes of the second APEC Senior Officials Meeting being held in Qingdao next week as well as the second ABAC meeting that was held in Santiago\, Chile. Please RSVP to Rachel Spence at rspence@uscib.org.\n\n			\n\n			Speakers will include:\n\n			                                                    \n\n			Bob Wang\, U.S. Senior Official for APEC\, U.S. Department of State\n\n			Ed Brzytwa\,  Director for APEC Affairs\, Office of the U.S. Trade Representative
X-ALT-DESC;FMTTYPE=text/html:<table align="center" border="0" cellpadding="0" cellspacing="0" style="border-collapse:collapse\;">\n	<tbody>\n		<tr style="height:101px\;">\n			<td style="width:639px\;padding:0in 5.4pt 0in 5.4pt\;height:101px\;vertical-align:top\;"><span style="font-size:14px\;"><span style="font-family:arial\;"><span style="color:#404040\;">The U.S. APEC Business Coalition would like to invite you to join members of the U.S. business community for a briefing on the highlights and outcomes of the second APEC Senior Officials Meeting being held in Qingdao next week as well as the second ABAC meeting that was held in Santiago\, Chile. Please RSVP to Rachel Spence at </span><a href="mailto:rspence@uscib.org">rspence@uscib.org</a>.<br />\n			<br />\n			Speakers will include:<br />\n			&nbsp\; &nbsp\; &nbsp\; &nbsp\; &nbsp\; &nbsp\; &nbsp\; &nbsp\; &nbsp\; &nbsp\; &nbsp\; &nbsp\; &nbsp\; &nbsp\; &nbsp\; &nbsp\; &nbsp\; &nbsp\; &nbsp\; &nbsp\; &nbsp\; &nbsp\; &nbsp\; &nbsp\; &nbsp\; &nbsp\;&nbsp\;<br />\n			Bob Wang\, U.S. Senior Official for APEC\, U.S. Department of State<br />\n			Ed Brzytwa\, &nbsp\;Director for APEC Affairs\, Office of the U.S. Trade Representative</span></span></td>\n		</tr>\n	</tbody>\n</table>\n\n<div style="clear:both\;">&nbsp\;</div>\n
LOCATION:Holland & Knight LLP 800 17th Street N.W. Suite 1100 Washington DC
UID:e.9078.1143
SEQUENCE:3
DTSTAMP:20260420T123514Z
URL:http://usasean.memberzone.com/events/details/som-ii-coalition-briefing-and-abac-ii-briefing-05-29-2014-1143
END:VEVENT

END:VCALENDAR
