BEGIN:VCALENDAR
VERSION:2.0
PRODID:-//ChamberMaster//Event Calendar 2.0//EN
METHOD:PUBLISH
X-PUBLISHED-TTL:P3D
REFRESH-INTERVAL:P3D
CALSCALE:GREGORIAN
BEGIN:VEVENT
DTSTART;VALUE=DATE:20140818
DTEND;VALUE=DATE:20140822
TRANSP:TRANSPARENT
X-MICROSOFT-CDO-ALLDAYEVENT:TRUE
SUMMARY:Solar Power in Asia
DESCRIPTION:Conference Highlights:\n\n	Solar power regulatory and legal frameworks in Asia- a close look at Thailand\, the Philippines\, Indonesia and Japan.\n	Interactive panel discussion of emerging markets and the next investment destination for solar power.\n	Solar power project finance and risk mitigation strategies.\n	hybrid solar power generation including a solar-biomass integration and solar-diesel generation project case study. \n	Offshore solar power plant and floating solutions. \n	Distributed and roof top solar power as the trend.\n	Utility scale photovoltaic and thermal power plant development. \n	Interactive panel discussion on solar farm cost reduction strategy.
X-ALT-DESC;FMTTYPE=text/html:Conference Highlights:\n<ul>\n	<li>Solar power regulatory and legal frameworks in Asia- a close look at Thailand\, the Philippines\, Indonesia and Japan.</li>\n	<li>Interactive panel discussion of emerging markets and the next investment destination for solar power.</li>\n	<li>Solar power project finance and risk mitigation strategies.</li>\n	<li>hybrid solar power generation including a solar-biomass integration and solar-diesel generation project case study.&nbsp\;</li>\n	<li>Offshore solar power plant and floating solutions.&nbsp\;</li>\n	<li>Distributed and roof top solar power as the trend.</li>\n	<li>Utility scale photovoltaic and thermal power plant development.&nbsp\;</li>\n	<li>Interactive panel discussion on solar farm cost reduction strategy.&nbsp\;</li>\n</ul>\n
LOCATION:Grand Copthorne Waterfront Hotel\, Singapore
UID:e.9078.1165
SEQUENCE:3
DTSTAMP:20260420T073626Z
URL:http://usasean.memberzone.com/events/details/solar-power-in-asia-08-18-2014-1165
END:VEVENT

END:VCALENDAR
