BEGIN:VCALENDAR
VERSION:2.0
PRODID:-//ChamberMaster//Event Calendar 2.0//EN
METHOD:PUBLISH
X-PUBLISHED-TTL:P3D
REFRESH-INTERVAL:P3D
CALSCALE:GREGORIAN
BEGIN:VEVENT
DTSTART:20121120T190000Z
DTEND:20121120T200000Z
X-MICROSOFT-CDO-ALLDAYEVENT:FALSE
SUMMARY:Socialization Meeting of Regulation no. 82 on e-Transaction\, Indonesia
DESCRIPTION:Socialization Meeting with Mr. Ashwin Sasongko\, Director-General of Telematics and Applications\, of Indonesia's Ministry of Communication & Informatics (KOMINFO) on Regulation No. 82 on Electronic Transaction
X-ALT-DESC;FMTTYPE=text/html:Socialization Meeting with Mr. Ashwin Sasongko\, Director-General of Telematics and Applications\, of Indonesia&#39\;s Ministry of Communication &amp\; Informatics (KOMINFO) on Regulation No. 82 on Electronic Transaction
LOCATION:Jakarta\, Indonesia
UID:e.9078.637
SEQUENCE:3
DTSTAMP:20260424T160152Z
URL:http://usasean.memberzone.com/events/details/socialization-meeting-of-regulation-no-82-on-e-transaction-indonesia-11-20-2012-637
END:VEVENT

END:VCALENDAR
