BEGIN:VCALENDAR
VERSION:2.0
PRODID:-//ChamberMaster//Event Calendar 2.0//EN
METHOD:PUBLISH
X-PUBLISHED-TTL:P3D
REFRESH-INTERVAL:P3D
CALSCALE:GREGORIAN
BEGIN:VEVENT
DTSTART:20231129T000000Z
DTEND:20231129T090000Z
X-MICROSOFT-CDO-ALLDAYEVENT:FALSE
SUMMARY:SME Workshop in the Philippines 2023
DESCRIPTION:The US-ASEAN Business Council ("US-ABC") is pleased to continue our ongoing initiatives for the SME Workshop Series: Building Resiliency for ASEAN SMEs   as a part of the ASEAN SME Academy ("the Academy")   which aims to help ASEAN small and medium enterprises (SMEs) navigate better in the digital economy. The workshop will focus on "Catalyzing Success in the Global Business Arena for Filipino SMEs in the Digital Economy"   which will be conducted on November 29\, 2023\, from 09.00 AM   05.00 PM Manila Time.\n\n\n\nThis workshop serves as a platform where small business owners\, government\, and related communities could connect and discuss ways to leverage SME business in the increasingly competitive digital economy landscape. The Council will join hands with its member companies to provide necessary support and know-how to the Philippines SMEs and its related stakeholders. The agenda will also align with the current PH government's priorities for SMEs such as\; sustainability\, financial resilience\, digitization\, and trade opportunities.\n\n\n\nFor more information about the agenda and collaboration opportunities\, please contact Bella at safifa@usasean.org and copy to utami@usasean.org and mmasaya@usasean.org.
X-ALT-DESC;FMTTYPE=text/html:<span style="font-size:14px\;"><span style="font-family:arial\;"><span lang="EN-US" style="color: rgb(0\, 0\, 0)\; font-style: normal\;">The US-ASEAN Business Council (&ldquo\;US-ABC&rdquo\;) is pleased to continue our ongoing initiatives for the <b>SME Workshop Series: Building Resiliency&nbsp\;for ASEAN SMEs </b>&ndash\; as a part of the </span><span lang="IN" style="color: rgb(0\, 0\, 0)\; font-style: normal\;"><a href="http://asean-sme-academy.org/" style="color: rgb(5\, 99\, 193)\;"><span lang="EN-US">ASEAN SME Academy</span></a></span><span lang="EN-US" style="color: rgb(0\, 0\, 0)\; font-style: normal\;"> (&ldquo\;the Academy&rdquo\;) &ndash\; which aims to help ASEAN small and medium enterprises (SMEs) navigate better in the digital economy.</span><span lang="EN-US" style="font-style: normal\;"><font color="#000000">&nbsp\;The </font><font color="#000000">workshop will focus on &ldquo\;</font><b style="color: rgb(0\, 0\, 0)\;">Catalyzing Success in the Global Business Arena for Filipino SMEs in the Digital Economy</b><font color="#000000">&rdquo\; &ndash\; which will be conducted on </font><b style="color: rgb(0\, 0\, 0)\;">November 29\, 2023\, </b><font color="#000000">from </font><b style="color: rgb(0\, 0\, 0)\;">09.00 AM &ndash\; 05.00 PM Manila Time.</b></span><br />\n<br />\nThis workshop serves as a platform where small business owners\, government\, and related communities could connect and discuss ways to leverage SME business in the increasingly competitive digital economy landscape. The Council will join hands with its member companies to provide necessary support and know-how to the Philippines SMEs and its related stakeholders. The agenda will also align with the current <a href="https://www.manilatimes.net/2023/06/10/business/top-business/msme-highlights-for-the-half-of-2023/1895351" style="color:rgb(5\, 99\, 193)\;">PH government&rsquo\;s priorities for SMEs</a> such as\; sustainability\, financial resilience\, digitization\, and trade opportunities.<br />\n<br />\nFor more information about the agenda and collaboration opportunities\, please contact Bella at safifa@usasean.org and copy to utami@usasean.org and mmasaya@usasean.org.</span></span><br />\n&nbsp\;
LOCATION:TBC
UID:e.9078.9162
SEQUENCE:3
DTSTAMP:20260421T173639Z
URL:http://usasean.memberzone.com/events/details/sme-workshop-in-the-philippines-2023-9162
END:VEVENT

END:VCALENDAR
