BEGIN:VCALENDAR
VERSION:2.0
PRODID:-//ChamberMaster//Event Calendar 2.0//EN
METHOD:PUBLISH
X-PUBLISHED-TTL:P3D
REFRESH-INTERVAL:P3D
CALSCALE:GREGORIAN
BEGIN:VEVENT
DTSTART:20200529T020000Z
DTEND:20200529T033500Z
X-MICROSOFT-CDO-ALLDAYEVENT:FALSE
SUMMARY:SME Webinar in the Philippines: Digital Payments for SMEs in COVID-19
DESCRIPTION:The US-ASEAN Business Council (the Council) is pleased to introduce a new initiative\, SME Webinar Series in Response Covid-19 Crisis: The Importance of Digital Payment System to Support Small Business. It is a part of the ASEAN SME Academy (the Academy) and aims to help ASEAN SMEs cope with the Covid-19 crisis. It is important to enhance ASEAN SMEs' digital skills to become more competitive in domestic markets and help SMEs to be better integrated into the regional and global value chains.\n\nAs the Covid-19 crisis hits the Philippines\, the International Monetary Fund (IMF) projected a decrease in the Philippines' GDP for 2020 to 0\,6% from 5\,9% in 2019. In the Philippines\, MSME has contributed 35\,7% of the total value added to the economy and employ 63\,19% of the total labor force. As MSME is one of the most affected key players during the Covid-19\, it is vital to help SMEs cope with the disruption to lower the risk from the economic crisis. The webinar will feature Visa representative to share the latest technology trend and initiative to support SMEs' business operations during the Covid-19 pandemic situation.
X-ALT-DESC;FMTTYPE=text/html:The US-ASEAN Business Council (the Council) is pleased to introduce a new initiative\, <strong><em>SME Webinar Series in Response Covid-19 Crisis: The Importance of Digital Payment System to Support Small Business.</em> </strong>It is a part of the ASEAN SME Academy (the Academy) and aims to help ASEAN SMEs cope with the Covid-19 crisis. It is important to enhance ASEAN SMEs&rsquo\; digital skills to become more competitive in domestic markets and help SMEs to be better integrated into the regional and global value chains.<br />\nAs the Covid-19 crisis hits the Philippines\, the International Monetary Fund (IMF) projected a decrease in the Philippines&rsquo\; GDP for 2020 to 0\,6% from 5\,9% in 2019. In the Philippines\, MSME has contributed 35\,7% of the total value added to the economy and employ 63\,19% of the total labor force. As MSME is one of the most affected key players during the Covid-19\, it is vital to help SMEs cope with the disruption to lower the risk from the economic crisis. The webinar will feature Visa representative to share the latest technology trend and initiative to support SMEs&#39\; business operations during the Covid-19 pandemic situation.
LOCATION:Please register in the link here. The event number is: 912 010 562
UID:e.9078.8197
SEQUENCE:3
DTSTAMP:20260424T080638Z
URL:http://usasean.memberzone.com/events/details/sme-webinar-in-the-philippines-digital-payments-for-smes-in-covid-19-8197
END:VEVENT

END:VCALENDAR
