BEGIN:VCALENDAR
VERSION:2.0
PRODID:-//ChamberMaster//Event Calendar 2.0//EN
METHOD:PUBLISH
X-PUBLISHED-TTL:P3D
REFRESH-INTERVAL:P3D
CALSCALE:GREGORIAN
BEGIN:VEVENT
DTSTART:20220531T020000Z
DTEND:20220531T060000Z
X-MICROSOFT-CDO-ALLDAYEVENT:FALSE
SUMMARY:SME Webinar in Indonesia: Advancing Digital Inclusion for Indonesian SMEs
DESCRIPTION:The US-ASEAN Business Council ("US-ABC") is pleased to continue our ongoing initiatives for the SME Webinar Series: Rebuilding the ASEAN Economy   as a part of the ASEAN SME Academy ("the Academy")   which aims to help ASEAN SMEs recover stronger from the COVID-19 pandemic and better adapt to the digital economy. The upcoming webinar will be focusing on "Advancing Digital Inclusion for Indonesia SMEs"   which will be conducted on Tuesday\, 31 May 2022\, from 09.00 AM   12.35 PM Jakarta Time. The webinar will feature speakers that will talk about issues within Indonesia G20 Prexsidency\, especially for Indonesian SMEs in the sphere of digitalization. This webinar is in Bahasa Indonesia\, cost-free\, and come with certificate. Register yourself now by go to https://bit.ly/SMEWebinarIDN2022.
X-ALT-DESC;FMTTYPE=text/html:The US-ASEAN Business Council (&ldquo\;US-ABC&rdquo\;) is pleased to continue our ongoing initiatives for the SME Webinar Series: Rebuilding the ASEAN Economy &ndash\; as a part of the ASEAN SME Academy (&ldquo\;the Academy&rdquo\;) &ndash\; which aims to help ASEAN SMEs recover stronger from the COVID-19 pandemic and better adapt to the digital economy. The upcoming webinar will be focusing on &ldquo\;Advancing Digital Inclusion for Indonesia SMEs&rdquo\; &ndash\; which will be conducted on Tuesday\, 31 May 2022\, from 09.00 AM &ndash\; 12.35 PM Jakarta Time. The webinar will feature speakers that will talk about issues within Indonesia G20 Prexsidency\, especially for Indonesian SMEs in the sphere of digitalization. This webinar is in Bahasa Indonesia\, cost-free\, and come with certificate. Register yourself now by go to <a href="https://bit.ly/SMEWebinarIDN2022">https://bit.ly/SMEWebinarIDN2022</a>.<br />\n
LOCATION:Zoom Webinar
UID:e.9078.8768
SEQUENCE:3
DTSTAMP:20260422T142054Z
URL:http://usasean.memberzone.com/events/details/sme-webinar-in-indonesia-advancing-digital-inclusion-for-indonesian-smes-8768
END:VEVENT

END:VCALENDAR
