BEGIN:VCALENDAR
VERSION:2.0
PRODID:-//ChamberMaster//Event Calendar 2.0//EN
METHOD:PUBLISH
X-PUBLISHED-TTL:P3D
REFRESH-INTERVAL:P3D
CALSCALE:GREGORIAN
BEGIN:VEVENT
DTSTART:20140218T233000Z
DTEND:20140219T004500Z
X-MICROSOFT-CDO-ALLDAYEVENT:FALSE
SUMMARY:Singapore TPP Breakfast Briefing with Drew Quinn
DESCRIPTION:TPP Breakfast Briefing with Drew Quinn\, Deputy Lead US Negotiator for TPP.\n\nThe purpose of this discussion is to exchange perspectives on the outcomes and the path ahead for the Trans Pacific Partnership.
X-ALT-DESC;FMTTYPE=text/html:<strong>TPP Breakfast Briefing with Drew Quinn\, Deputy Lead US Negotiator for TPP.</strong><br />\nThe purpose of this discussion is to exchange perspectives on the outcomes and the path ahead for the Trans Pacific Partnership.
LOCATION:American Chamber of Commerce - Singapore 1 Scotts Road\, Shaw Centre #23-03/04/05 Singapore 228208
UID:e.9078.1046
SEQUENCE:3
DTSTAMP:20260421T041446Z
URL:http://usasean.memberzone.com/events/details/singapore-tpp-breakfast-briefing-with-drew-quinn-02-18-2014-1046
END:VEVENT

END:VCALENDAR
