BEGIN:VCALENDAR
VERSION:2.0
PRODID:-//ChamberMaster//Event Calendar 2.0//EN
METHOD:PUBLISH
X-PUBLISHED-TTL:P3D
REFRESH-INTERVAL:P3D
CALSCALE:GREGORIAN
BEGIN:VEVENT
DTSTART:20181113T000000Z
DTEND:20181113T010000Z
X-MICROSOFT-CDO-ALLDAYEVENT:FALSE
SUMMARY:Singapore Roundtable with DAS James M. Sullivan
DESCRIPTION:Please join us for a roundtable discussion with Deputy Assistant Secretary for Services James Sullivan during his visit to Singapore to discuss services trade issues in ASEAN. Mr. Sullivan's office covers financial\, digital and internet\, supply chain\, and professional and business services industries and his full biography can be found at this link.
X-ALT-DESC;FMTTYPE=text/html:Please join us for a roundtable discussion with Deputy Assistant Secretary for Services James Sullivan during his visit to Singapore to discuss services trade issues in ASEAN. Mr. Sullivan&#39\;s office covers&nbsp\;financial\, digital and internet\, supply chain\, and professional and business services industries and his full biography can be found&nbsp\;<a href="https://www.trade.gov/press/bios/sullivan.asp">at this link</a>.
LOCATION:US-ASEAN Business Council\, Singapore 100 Beach Road #22-04/05\, Shaw Tower\, Singapore 189702
UID:e.9078.7729
SEQUENCE:3
DTSTAMP:20260420T085457Z
URL:http://usasean.memberzone.com/events/details/singapore-roundtable-with-das-james-m-sullivan-7729
END:VEVENT

END:VCALENDAR
