BEGIN:VCALENDAR
VERSION:2.0
PRODID:-//ChamberMaster//Event Calendar 2.0//EN
METHOD:PUBLISH
X-PUBLISHED-TTL:P3D
REFRESH-INTERVAL:P3D
CALSCALE:GREGORIAN
BEGIN:VEVENT
DTSTART:20191122T023000Z
DTEND:20191122T033000Z
X-MICROSOFT-CDO-ALLDAYEVENT:FALSE
SUMMARY:Singapore Roundtable on U.S.-China Relations with Amy Celico and Kenneth Jarrett\, Albright Stonebridge Group
DESCRIPTION:In 2019\, companies and governments in ASEAN have been impacted by the follow-on effects of the U.S.-China Trade War. Join Amy Celico (Principal) and Kenneth Jarrett (Senior Advisor) of Albright Stonebridge Group for an informative roundtable on U.S.-China trade tensions and the overall bilateral relationship. Ms. Celico will offer a perspective from Washington D.C.\, and Mr. Jarrett will offer a perspective from China.
X-ALT-DESC;FMTTYPE=text/html:<span style="font-family: georgia\, serif\; font-size: 16px\; text-align: center\;">In 2019\, companies and governments in ASEAN have been impacted by the follow-on effects of the U.S.-China Trade War. Join Amy Celico (Principal) and Kenneth Jarrett (Senior Advisor) of Albright Stonebridge Group for an informative roundtable on U.S.-China trade tensions and the overall bilateral relationship. Ms. Celico will offer a perspective from Washington D.C.\, and Mr. Jarrett will offer a perspective from China.&nbsp\;</span>
LOCATION:US-ABC Singapore Office Shaw Tower 100 Beach Road #22-04/05
UID:e.9078.8079
SEQUENCE:3
DTSTAMP:20260424T183424Z
URL:http://usasean.memberzone.com/events/details/singapore-roundtable-on-u-s-china-relations-with-amy-celico-and-kenneth-jarrett-albright-stonebridge-group-8079
END:VEVENT

END:VCALENDAR
