BEGIN:VCALENDAR
VERSION:2.0
PRODID:-//ChamberMaster//Event Calendar 2.0//EN
METHOD:PUBLISH
X-PUBLISHED-TTL:P3D
REFRESH-INTERVAL:P3D
CALSCALE:GREGORIAN
BEGIN:VEVENT
DTSTART;VALUE=DATE:20140219
DTEND;VALUE=DATE:20140220
TRANSP:TRANSPARENT
X-MICROSOFT-CDO-ALLDAYEVENT:TRUE
SUMMARY:Singapore Roundtable Discussion - Healthcare in the Trans Pacific Partnership
DESCRIPTION:Singapore Roundtable Discussion - Healthcare in the Trans Pacific Partnership with Stan McCoy\, Assistant US Trade Representative for Intellectual Property and Innovation.\n\n\n\n\n	This discussion will provide an update on the status of healthcare in the TPP negotiations\, particularly in the areas of:\n\n	 \n\n	1.       Data exclusivity commitments\n\n	 \n\n	2.       Transparency in healthcare policies\n\n	 \n\n	3.       IPR related issues affecting the healthcare industry
X-ALT-DESC;FMTTYPE=text/html:<span style="font-size:14px\;"><span style="font-family: arial\;">Singapore Roundtable Discussion - Healthcare in the Trans Pacific Partnership with Stan McCoy\, Assistant US Trade Representative for Intellectual Property and Innovation.</span></span><br />\n<br />\n<div style="color: rgb(40\, 40\, 40)\; font-family: 'Segoe UI WPC'\, 'Segoe UI'\, Tahoma\, 'Microsoft Sans Serif'\, Verdana\, sans-serif\; font-size: 15px\; margin: 0px\; ">\n	<span style="font-size:14px\;"><span style="font-family: arial\;">This discussion will provide an update on the status of healthcare in the&nbsp\;TPP negotiations\, particularly in the areas of:</span></span></div>\n<div style="color: rgb(40\, 40\, 40)\; font-family: 'Segoe UI WPC'\, 'Segoe UI'\, Tahoma\, 'Microsoft Sans Serif'\, Verdana\, sans-serif\; font-size: 15px\; margin: 0px\; ">\n	<span style="font-size:14px\;"><span style="font-family: arial\;">&nbsp\;</span></span></div>\n<div style="color: rgb(40\, 40\, 40)\; font-family: 'Segoe UI WPC'\, 'Segoe UI'\, Tahoma\, 'Microsoft Sans Serif'\, Verdana\, sans-serif\; font-size: 15px\; text-indent: -18pt\; margin: 0px 0px 0px 36pt\; ">\n	<span style="font-size:14px\;"><span style="font-family: arial\;">1.&nbsp\;&nbsp\;&nbsp\;&nbsp\;&nbsp\;&nbsp\;&nbsp\;Data exclusivity commitments</span></span><br />\n	&nbsp\;</div>\n<div style="color: rgb(40\, 40\, 40)\; font-family: 'Segoe UI WPC'\, 'Segoe UI'\, Tahoma\, 'Microsoft Sans Serif'\, Verdana\, sans-serif\; font-size: 15px\; text-indent: -18pt\; margin: 0px 0px 0px 36pt\; ">\n	<span style="font-size:14px\;"><span style="font-family: arial\;">2.&nbsp\;&nbsp\;&nbsp\;&nbsp\;&nbsp\;&nbsp\;&nbsp\;Transparency in healthcare policies</span></span><br />\n	&nbsp\;</div>\n<div style="color: rgb(40\, 40\, 40)\; font-family: 'Segoe UI WPC'\, 'Segoe UI'\, Tahoma\, 'Microsoft Sans Serif'\, Verdana\, sans-serif\; font-size: 15px\; text-indent: -18pt\; margin: 0px 0px 0px 36pt\; ">\n	<span style="font-size:14px\;"><span style="font-family: arial\;">3.&nbsp\;&nbsp\;&nbsp\;&nbsp\;&nbsp\;&nbsp\;&nbsp\;IPR related issues affecting the healthcare industry</span></span></div>\n
LOCATION:Covidien 103 Penang Road Visioncrest Commercial Building\, #10-01 Singapore\, 238467
UID:e.9078.1047
SEQUENCE:3
DTSTAMP:20260421T023314Z
URL:http://usasean.memberzone.com/events/details/singapore-roundtable-discussion-healthcare-in-the-trans-pacific-partnership-02-19-2014-1047
END:VEVENT

END:VCALENDAR
