BEGIN:VCALENDAR
VERSION:2.0
PRODID:-//ChamberMaster//Event Calendar 2.0//EN
METHOD:PUBLISH
X-PUBLISHED-TTL:P3D
REFRESH-INTERVAL:P3D
CALSCALE:GREGORIAN
BEGIN:VEVENT
DTSTART:20140321T123000Z
DTEND:20140321T140000Z
X-MICROSOFT-CDO-ALLDAYEVENT:FALSE
SUMMARY:Singapore Quarterly Breakfast
DESCRIPTION:Members are invited to the Council's quarterly breakfast with H.E. Ashok Kumar Mirpuri\, Ambassador of Singapore to the U.S.\n\n\n\nIn addition to Ambassador Mirpuri and his team in Washington D.C.\, representatives from other Singaporean government agencies across the U.S. will be in attendance and will offer views from their areas of responsibility.
X-ALT-DESC;FMTTYPE=text/html:<span style="font-family:arial\;"><span style="font-size: 16px\;">Members are invited to the Council&#39\;s quarterly breakfast with H.E. Ashok Kumar Mirpuri\, Ambassador of Singapore to the U.S.<br />\n<br />\nIn addition to Ambassador Mirpuri and his team in Washington D.C.\, representatives from other Singaporean government agencies across the U.S. will be in attendance and will offer views from their areas of responsibility.</span></span><br />\n<br />\n&nbsp\;
LOCATION:Embassy of the Republic of Singapore 3501 International Pl.\, NW Washington\, DC 20008
UID:e.9078.1076
SEQUENCE:3
DTSTAMP:20260420T174929Z
URL:http://usasean.memberzone.com/events/details/singapore-quarterly-breakfast-03-21-2014-1076
END:VEVENT

END:VCALENDAR
