BEGIN:VCALENDAR
VERSION:2.0
PRODID:-//ChamberMaster//Event Calendar 2.0//EN
METHOD:PUBLISH
X-PUBLISHED-TTL:P3D
REFRESH-INTERVAL:P3D
CALSCALE:GREGORIAN
BEGIN:VEVENT
DTSTART:20210305T020000Z
DTEND:20210305T031500Z
X-MICROSOFT-CDO-ALLDAYEVENT:FALSE
SUMMARY:Singapore Q1 Quarterly Committee Call
DESCRIPTION:The Council invites members to join the Singapore Committee Call on March 5\, Friday\,  10-11.15 AM SGT/ March 4\, Thursday\, 9-10.15 PM EST featuring guest speaker Ambassador CHAN Heng Chee\, Ambassador-at-large and former ambassador of Singapore to the United States. Her bio is available here.
X-ALT-DESC;FMTTYPE=text/html:The Council invites members to join the Singapore Committee Call on March 5\, Friday\,&nbsp\; 10-11.15 AM SGT/ March 4\, Thursday\, 9-10.15 PM EST featuring guest speaker Ambassador CHAN Heng Chee\, Ambassador-at-large and former ambassador of Singapore to the United States. Her bio is available<a href="https://www.yale-nus.edu.sg/about/the-governing-board/ambassador-chan-heng-chee/#:~:text=Ambassador%2Dat%2DLarge%2C%20Ministry\,University%20of%20Technology%20and%20Design."> here</a>.
LOCATION:Zoom call
UID:e.9078.8400
SEQUENCE:3
DTSTAMP:20260423T164054Z
URL:http://usasean.memberzone.com/events/details/singapore-q1-quarterly-committee-call-8400
END:VEVENT

END:VCALENDAR
