BEGIN:VCALENDAR
VERSION:2.0
PRODID:-//ChamberMaster//Event Calendar 2.0//EN
METHOD:PUBLISH
X-PUBLISHED-TTL:P3D
REFRESH-INTERVAL:P3D
CALSCALE:GREGORIAN
BEGIN:VEVENT
DTSTART;VALUE=DATE:20120522
DTEND;VALUE=DATE:20120523
TRANSP:TRANSPARENT
X-MICROSOFT-CDO-ALLDAYEVENT:TRUE
SUMMARY:Singapore Mission Conference Call - May 22 2012
DESCRIPTION:
X-ALT-DESC;FMTTYPE=text/html:
LOCATION:
UID:e.9078.558
SEQUENCE:3
DTSTAMP:20260425T004329Z
URL:http://usasean.memberzone.com/events/details/singapore-mission-conference-call-may-22-2012-05-22-2012-558
END:VEVENT

END:VCALENDAR
