BEGIN:VCALENDAR
VERSION:2.0
PRODID:-//ChamberMaster//Event Calendar 2.0//EN
METHOD:PUBLISH
X-PUBLISHED-TTL:P3D
REFRESH-INTERVAL:P3D
CALSCALE:GREGORIAN
BEGIN:VEVENT
DTSTART;VALUE=DATE:20191029
DTEND;VALUE=DATE:20191102
TRANSP:TRANSPARENT
X-MICROSOFT-CDO-ALLDAYEVENT:TRUE
SUMMARY:Singapore International Energy Week 2019 (SIEW 2019)
DESCRIPTION:Singapore International Energy Week 2019\n\n\n\nThe Singapore International Energy Week (SIEW) is the leading platform in Asia for energy stakeholders to discuss energy issues that impact the region. Annually\, SIEW attracts over 13\,000 delegates from more than 70 countries including energy ministers\, industry captains and heads of international organisations.\n\n\n\nAs global energy demand continues to grow\, especially in Asia\, SIEW 2019 will bring together energy stakeholders to discuss and drive the transformation towards a more sustainable energy future with the theme "Accelerating Energy Transformation".\n\n\n\nRepresentatives of US-ASEAN Business Council member companies are eligible for a discounted rate of 20% off for passes to the Singapore Energy Summit (SES). The link to access the discount is available in the SIEW invitation that was sent out to member companies.\n\n\n\nThe event details are as follows: \n\n\n\nEvent: Singapore International Energy Week 2019\n\nDate of Event: 29 October-1 November 2019\n\nVenue: Marina Bay Sands\, Singapore\n\n\n\nPlease visit www.siew.sg for further information.\n\n \nFOLLOW US\n\n\n	Facebook: www.facebook.com/SIEW.sg\n	Twitter: @SIEW_SG\n	LinkedIn: SIEWLinkedIn\n	YouTube: www.youtube.com/user/SIEWNews
X-ALT-DESC;FMTTYPE=text/html:<strong>Singapore International Energy Week 2019</strong><br />\n<br />\nThe Singapore International Energy Week (SIEW) is the leading platform in Asia for energy stakeholders to discuss energy issues that impact the region. Annually\, SIEW attracts over 13\,000 delegates from more than 70 countries including energy ministers\, industry captains and heads of international organisations.<br />\n<br />\nAs global energy demand continues to grow\, especially in Asia\, SIEW 2019 will bring together energy stakeholders to discuss and drive the transformation towards a more sustainable energy future with the theme &ldquo\;Accelerating Energy Transformation&rdquo\;.<br />\n<br />\nRepresentatives of US-ASEAN Business Council member companies are eligible for a discounted rate of 20% off for passes to the Singapore Energy Summit (SES). The link to access the discount is available in the SIEW invitation that was sent out to member companies.<br />\n<br />\nThe event details are as follows:&nbsp\;<br />\n<br />\n<strong>Event:</strong> Singapore International Energy Week 2019<br />\n<strong>Date of Event: </strong>29 October-1 November 2019<br />\n<strong>Venue: </strong>Marina Bay Sands\, Singapore<br />\n<br />\nPlease visit <a href="http://www.siew.sg">www.siew.sg</a> for further information.<br />\n&nbsp\;\n<div><strong>FOLLOW US</strong></div>\n\n<ul>\n	<li>Facebook: <a href="http://www.facebook.com/SIEW.sg">www.facebook.com/SIEW.sg</a></li>\n	<li>Twitter: @SIEW_SG</li>\n	<li>LinkedIn: SIEWLinkedIn</li>\n	<li>YouTube: <a href="http://www.youtube.com/user/SIEWNews">www.youtube.com/user/SIEWNews</a></li>\n</ul>\n
LOCATION:Marina Bay Sands\, Singapore
UID:e.9078.7980
SEQUENCE:3
DTSTAMP:20260424T183400Z
URL:http://usasean.memberzone.com/events/details/singapore-international-energy-week-2019-siew-2019-7980
END:VEVENT

END:VCALENDAR
