BEGIN:VCALENDAR
VERSION:2.0
PRODID:-//ChamberMaster//Event Calendar 2.0//EN
METHOD:PUBLISH
X-PUBLISHED-TTL:P3D
REFRESH-INTERVAL:P3D
CALSCALE:GREGORIAN
BEGIN:VEVENT
DTSTART:20181120T133000Z
DTEND:20181120T150000Z
X-MICROSOFT-CDO-ALLDAYEVENT:FALSE
SUMMARY:Singapore Customs: NTP Value-Added Service (VAS) Provider Briefing Session (November 20)
DESCRIPTION:The Singapore National Trade Platform is holding an ongoing series of briefings for trade services providers who may want to link their businesses to the new NTP. The Council encourages members who are interested in the platform to join the briefing and learn more about how to use the NTP to grow their business.\n\n\n\nJoin the NTP as a VAS Provider to enhance your visibility in the trade ecosystem and grow your business! We welcome all businesses providing a digital service\, application or platform that is for trade (import/export)\, supply chain & logistics\, trade financing\, insurance and payments\, or any other trade-related service to sign up for one of these briefing sessions. This briefing is ideal for business owners\, senior management\, directors and/or managers of Sales and Marketing and Product or Technology functions looking to find out more about offering your services on the NTP.\n\n\n\nThe agenda at each session will be the same and cover:\n\n	Overview of NTP\n	Role of VAS Providers\n	Benefits of coming onboard the NTP\n	VAS Provider Engagement Process\n\nVisit https://tinyurl.com/vasbriefing to register for any one of these briefing sessions. Please note that slots are limited and reservations are on a first come first serve basis.
X-ALT-DESC;FMTTYPE=text/html:<a href="https://www.ntp.gov.sg/public/news/events/2018/ntp-value-added-service-provider-briefing-session">The Singapore National Trade Platform is holding an ongoing series of briefings for trade services providers who may want to link their businesses to the new NTP.</a> The Council encourages members who are interested in the platform to join the briefing and learn more about how to use the NTP to grow their business.<br />\n<br />\n<em>Join the NTP as a VAS Provider to enhance your visibility in the trade ecosystem and grow your business! We welcome all businesses providing a digital service\, application or platform that is for trade (import/export)\, supply chain &amp\; logistics\, trade financing\, insurance and payments\, or any other trade-related service to sign up for one of these briefing sessions. This briefing is ideal for business owners\, senior management\, directors and/or managers of Sales and Marketing and Product or Technology functions looking to find out more about offering your services on the NTP.<br />\n<br />\nThe agenda at each session will be the same and cover:</em>\n<ul>\n	<li><em>Overview of NTP</em></li>\n	<li><em>Role of VAS Providers</em></li>\n	<li><em>Benefits of coming onboard the NTP</em></li>\n	<li><em>VAS Provider Engagement Process</em></li>\n</ul>\nVisit <a href="https://tinyurl.com/vasbriefing">https://tinyurl.com/vasbriefing</a> to register for any one of these briefing sessions. Please note that slots are limited and reservations are on a first come first serve basis.
LOCATION:Singapore Customs @ Revenue House
UID:e.9078.7746
SEQUENCE:3
DTSTAMP:20260420T104805Z
URL:http://usasean.memberzone.com/events/details/singapore-customs-ntp-value-added-service-vas-provider-briefing-session-november-20-7746
END:VEVENT

END:VCALENDAR
