BEGIN:VCALENDAR
VERSION:2.0
PRODID:-//ChamberMaster//Event Calendar 2.0//EN
METHOD:PUBLISH
X-PUBLISHED-TTL:P3D
REFRESH-INTERVAL:P3D
CALSCALE:GREGORIAN
BEGIN:VEVENT
DTSTART:20140710T010000Z
DTEND:20140710T020000Z
X-MICROSOFT-CDO-ALLDAYEVENT:FALSE
SUMMARY:Singapore Committee Quarterly Conference Call
DESCRIPTION:Singapore Committee Quarterly Conference Call
X-ALT-DESC;FMTTYPE=text/html:Singapore Committee Quarterly Conference Call
LOCATION:
UID:e.9078.1191
SEQUENCE:3
DTSTAMP:20260420T073036Z
URL:http://usasean.memberzone.com/events/details/singapore-committee-quarterly-conference-call-07-09-2014-1191
END:VEVENT

END:VCALENDAR
