BEGIN:VCALENDAR
VERSION:2.0
PRODID:-//ChamberMaster//Event Calendar 2.0//EN
METHOD:PUBLISH
X-PUBLISHED-TTL:P3D
REFRESH-INTERVAL:P3D
CALSCALE:GREGORIAN
BEGIN:VEVENT
DTSTART:20140130T010000Z
DTEND:20140130T020000Z
X-MICROSOFT-CDO-ALLDAYEVENT:FALSE
SUMMARY:Singapore Committee Quarterly Conference Call
DESCRIPTION:Singapore Committee Conference Call\n\n\n\nWashington: Wednesday\, January 29\, 8:00PM\n\nSingapore: Thursday\, January 30\, 9:00AM
X-ALT-DESC;FMTTYPE=text/html:<span style="font-family:arial\;"><span style="font-size: 16px\;">Singapore Committee Conference Call<br />\n<br />\nWashington: Wednesday\, January 29\, 8:00PM<br />\nSingapore: Thursday\, January 30\, 9:00AM</span></span>
LOCATION:Conference Call
UID:e.9078.1024
SEQUENCE:3
DTSTAMP:20260421T035609Z
URL:http://usasean.memberzone.com/events/details/singapore-committee-quarterly-conference-call-01-29-2014-1024
END:VEVENT

END:VCALENDAR
