BEGIN:VCALENDAR
VERSION:2.0
PRODID:-//ChamberMaster//Event Calendar 2.0//EN
METHOD:PUBLISH
X-PUBLISHED-TTL:P3D
REFRESH-INTERVAL:P3D
CALSCALE:GREGORIAN
BEGIN:VEVENT
DTSTART:20180328T130000Z
DTEND:20180328T140000Z
X-MICROSOFT-CDO-ALLDAYEVENT:FALSE
SUMMARY:Singapore Committee Quarterly Call
DESCRIPTION:Please join us for the first Singapore Committee Quarterly Call of 2018. During the call we will review the 2018 Work Plan and discuss the Committee's priorities and upcoming opportunities for the year\, including the 2018 Singapore Business Mission.  A copy of the 2018 Work Plan for the Singapore Committee will be sent out prior to the call.  If you have any questions or would like to suggest an item to be discussed on the call\, please contact Riley Smith at rsmith@usasean.org.
X-ALT-DESC;FMTTYPE=text/html:Please join us for the first Singapore Committee Quarterly Call of 2018. During the call we will review the 2018 Work Plan and discuss the Committee&#39\;s priorities and upcoming opportunities for the year\, including the 2018 Singapore Business Mission.&nbsp\; A copy of the 2018 Work Plan for the Singapore Committee will be sent out prior to the call.&nbsp\; If you have any questions or would like to suggest an item to be discussed on the call\, please contact Riley Smith at rsmith@usasean.org.
LOCATION:Dial in details will be provided to participants ahead of the call.
UID:e.9078.6507
SEQUENCE:3
DTSTAMP:20260419T184343Z
URL:http://usasean.memberzone.com/events/details/singapore-committee-quarterly-call-6507
END:VEVENT

END:VCALENDAR
