BEGIN:VCALENDAR
VERSION:2.0
PRODID:-//ChamberMaster//Event Calendar 2.0//EN
METHOD:PUBLISH
X-PUBLISHED-TTL:P3D
REFRESH-INTERVAL:P3D
CALSCALE:GREGORIAN
BEGIN:VEVENT
DTSTART;VALUE=DATE:20111129
DTEND;VALUE=DATE:20111130
TRANSP:TRANSPARENT
X-MICROSOFT-CDO-ALLDAYEVENT:TRUE
SUMMARY:Singapore Committee Meeting - Nov 29 2011
DESCRIPTION:
X-ALT-DESC;FMTTYPE=text/html:
LOCATION:
UID:e.9078.557
SEQUENCE:3
DTSTAMP:20260425T205357Z
URL:http://usasean.memberzone.com/events/details/singapore-committee-meeting-nov-29-2011-11-29-2011-557
END:VEVENT

END:VCALENDAR
