BEGIN:VCALENDAR
VERSION:2.0
PRODID:-//ChamberMaster//Event Calendar 2.0//EN
METHOD:PUBLISH
X-PUBLISHED-TTL:P3D
REFRESH-INTERVAL:P3D
CALSCALE:GREGORIAN
BEGIN:VEVENT
DTSTART:20220322T010000Z
DTEND:20220322T023000Z
X-MICROSOFT-CDO-ALLDAYEVENT:FALSE
SUMMARY:Singapore Committee Call Q1 2022
DESCRIPTION:2022 Q1 Singapore Committee Call with EDB Panel Discussion \n\n\n\nAgenda\n\n\n	Opening Remarks\n\n	\n		USABC\n		Singapore Committee Leadership\n	\n	\n	Guest speaker(s): Economic Development Board\, Singapore (EDB)\n	\n		Singapore + 1 -   Building an integrated regional model in Southeast Asia:\n		\n			 Building a regionally integrated manufacturing model by tapping on Singapore as a control tower for Southeast Asia\n			Tapping on strategic partners and initiatives such as the Southeast Asia Manufacturing Alliance\, to benefit from the complementary strengths of regional manufacturing hubs in Southeast Asia\n			How tech companies can use a regional twinning model to manage talent and data centre infrastructure needs\n		\n		\n	\n	\n	Discussion on Singapore Committee work plan 2022\n	Closing Remarks
X-ALT-DESC;FMTTYPE=text/html:<p class="x_p1" style="margin: 0cm\; font-variant-ligatures: normal\; orphans: 2\; widows: 2\; text-decoration-thickness: initial\;"><font color="#000000"><font size="4">2022 Q1 Singapore Committee Call&nbsp\;with EDB Panel Discussion&nbsp\;</font></font><br />\n<br />\n<u style="font-size: 18px\;">Agenda</u></p>\n\n<ol>\n	<li style="font-size: 12pt\; color: rgb(51\, 51\, 51)\; text-align: justify\;"><span style="font-size:18px\;"><span style="margin: 0px\; padding: 0px\; border: 0px\; font-style: inherit\; font-variant-caps: inherit\; font-stretch: inherit\; line-height: inherit\; vertical-align: baseline\; color: rgb(0\, 0\, 0)\;"><span style="margin: 0px\; padding: 0px\; border: 0px\; font-style: inherit\; font-variant-ligatures: inherit\; font-variant-position: inherit\; font-variant-caps: inherit\; font-variant-numeric: inherit\; font-variant-alternates: inherit\; font-variant-east-asian: inherit\; font-stretch: inherit\; line-height: inherit\; vertical-align: baseline\; color: inherit\;"><span style="margin: 0px\; padding: 0px\; border: 0px\; font-style: inherit\; font-variant-ligatures: inherit\; font-variant-position: inherit\; font-variant-caps: inherit\; font-variant-numeric: inherit\; font-variant-alternates: inherit\; font-variant-east-asian: inherit\; font-stretch: inherit\; line-height: inherit\; vertical-align: baseline\; color: inherit\;"><span style="margin: 0px\; padding: 0px\; border: 0px\; font-style: inherit\; font-variant-caps: inherit\; font-stretch: inherit\; line-height: inherit\; vertical-align: baseline\; color: inherit\;"><span style="margin: 0px\; padding: 0px\; border: 0px\; font-style: inherit\; font-variant-caps: inherit\; font-stretch: inherit\; line-height: inherit\; vertical-align: baseline\; color: inherit\;">Opening Remarks</span></span></span></span></span></span>\n\n	<ul>\n		<li style="text-align: justify\;"><span style="font-size:18px\;"><span style="margin: 0px\; padding: 0px\; border: 0px\; font-style: inherit\; font-variant-caps: inherit\; font-stretch: inherit\; line-height: inherit\; vertical-align: baseline\; color: rgb(0\, 0\, 0)\;"><span style="margin: 0px\; padding: 0px\; border: 0px\; font-style: inherit\; font-variant-ligatures: inherit\; font-variant-position: inherit\; font-variant-caps: inherit\; font-variant-numeric: inherit\; font-variant-alternates: inherit\; font-variant-east-asian: inherit\; font-stretch: inherit\; line-height: inherit\; vertical-align: baseline\; color: inherit\;"><span style="margin: 0px\; padding: 0px\; border: 0px\; font-style: inherit\; font-variant-ligatures: inherit\; font-variant-position: inherit\; font-variant-caps: inherit\; font-variant-numeric: inherit\; font-variant-alternates: inherit\; font-variant-east-asian: inherit\; font-stretch: inherit\; line-height: inherit\; vertical-align: baseline\; color: inherit\;"><span style="margin: 0px\; padding: 0px\; border: 0px\; font-style: inherit\; font-variant-caps: inherit\; font-stretch: inherit\; line-height: inherit\; vertical-align: baseline\; color: inherit\;"><span style="margin: 0px\; padding: 0px\; border: 0px\; font-style: inherit\; font-variant-caps: inherit\; font-stretch: inherit\; line-height: inherit\; vertical-align: baseline\; color: inherit\;">USABC</span></span></span></span></span></span></li>\n		<li style="text-align: justify\;"><span style="font-size:18px\;"><span style="margin: 0px\; padding: 0px\; border: 0px\; font-style: inherit\; font-variant-caps: inherit\; font-stretch: inherit\; line-height: inherit\; vertical-align: baseline\; color: rgb(0\, 0\, 0)\;"><span style="margin: 0px\; padding: 0px\; border: 0px\; font-style: inherit\; font-variant-ligatures: inherit\; font-variant-position: inherit\; font-variant-caps: inherit\; font-variant-numeric: inherit\; font-variant-alternates: inherit\; font-variant-east-asian: inherit\; font-stretch: inherit\; line-height: inherit\; vertical-align: baseline\; color: inherit\;"><span style="margin: 0px\; padding: 0px\; border: 0px\; font-style: inherit\; font-variant-ligatures: inherit\; font-variant-position: inherit\; font-variant-caps: inherit\; font-variant-numeric: inherit\; font-variant-alternates: inherit\; font-variant-east-asian: inherit\; font-stretch: inherit\; line-height: inherit\; vertical-align: baseline\; color: inherit\;"><span style="margin: 0px\; padding: 0px\; border: 0px\; font-style: inherit\; font-variant-caps: inherit\; font-stretch: inherit\; line-height: inherit\; vertical-align: baseline\; color: inherit\;"><span style="margin: 0px\; padding: 0px\; border: 0px\; font-style: inherit\; font-variant-caps: inherit\; font-stretch: inherit\; line-height: inherit\; vertical-align: baseline\; color: inherit\;">Singapore Committee Leadership</span></span></span></span></span></span></li>\n	</ul>\n	</li>\n	<li style="text-align: justify\;"><span style="font-size:18px\;"><span style="margin: 0px\; padding: 0px\; border: 0px\; font-style: inherit\; font-variant-caps: inherit\; font-stretch: inherit\; line-height: inherit\; vertical-align: baseline\; color: rgb(0\, 0\, 0)\;"><span style="margin: 0px\; padding: 0px\; border: 0px\; font-style: inherit\; font-variant-ligatures: inherit\; font-variant-position: inherit\; font-variant-caps: inherit\; font-variant-numeric: inherit\; font-variant-alternates: inherit\; font-variant-east-asian: inherit\; font-stretch: inherit\; line-height: inherit\; vertical-align: baseline\; color: inherit\;"><span style="margin: 0px\; padding: 0px\; border: 0px\; font-style: inherit\; font-variant-ligatures: inherit\; font-variant-position: inherit\; font-variant-caps: inherit\; font-variant-numeric: inherit\; font-variant-alternates: inherit\; font-variant-east-asian: inherit\; font-stretch: inherit\; line-height: inherit\; vertical-align: baseline\; color: inherit\;"><span style="margin: 0px\; padding: 0px\; border: 0px\; font-style: inherit\; font-variant-caps: inherit\; font-stretch: inherit\; line-height: inherit\; vertical-align: baseline\; color: inherit\;"><span style="margin: 0px\; padding: 0px\; border: 0px\; font-style: inherit\; font-variant-caps: inherit\; font-stretch: inherit\; line-height: inherit\; vertical-align: baseline\; color: inherit\;">Guest speaker(s): Economic Development Board\, Singapore (EDB)</span></span></span></span></span></span>\n	<ul>\n		<li style="text-align: justify\;"><span style="font-size:18px\;"><span style="margin: 0px\; padding: 0px\; border: 0px\; font-style: inherit\; font-variant-caps: inherit\; font-stretch: inherit\; line-height: inherit\; vertical-align: baseline\; color: rgb(0\, 0\, 0)\;"><span style="margin: 0px\; padding: 0px\; border: 0px\; font-style: inherit\; font-variant-ligatures: inherit\; font-variant-position: inherit\; font-variant-caps: inherit\; font-variant-numeric: inherit\; font-variant-alternates: inherit\; font-variant-east-asian: inherit\; font-stretch: inherit\; line-height: inherit\; vertical-align: baseline\; color: inherit\;"><span style="margin: 0px\; padding: 0px\; border: 0px\; font-style: inherit\; font-variant-ligatures: inherit\; font-variant-position: inherit\; font-variant-caps: inherit\; font-variant-numeric: inherit\; font-variant-alternates: inherit\; font-variant-east-asian: inherit\; font-stretch: inherit\; line-height: inherit\; vertical-align: baseline\; color: inherit\;"><span style="margin: 0px\; padding: 0px\; border: 0px\; font-style: inherit\; font-variant-caps: inherit\; font-stretch: inherit\; line-height: inherit\; vertical-align: baseline\; color: inherit\;"><span style="margin: 0px\; padding: 0px\; border: 0px\; font-style: inherit\; font-variant-caps: inherit\; font-stretch: inherit\; line-height: inherit\; vertical-align: baseline\; color: inherit\;">Singapore + 1 - &#8203\;&#8203\;Building an integrated&nbsp\;regional model in Southeast Asia:</span></span></span></span></span></span>\n		<ul>\n			<li style="text-align: justify\;"><span style="font-size:18px\;"><span style="margin: 0px\; padding: 0px\; border: 0px\; font-style: inherit\; font-variant-caps: inherit\; font-stretch: inherit\; line-height: inherit\; vertical-align: baseline\; color: rgb(0\, 0\, 0)\;"><span style="margin: 0px\; padding: 0px\; border: 0px\; font-style: inherit\; font-variant-ligatures: inherit\; font-variant-position: inherit\; font-variant-caps: inherit\; font-variant-numeric: inherit\; font-variant-alternates: inherit\; font-variant-east-asian: inherit\; font-stretch: inherit\; line-height: inherit\; vertical-align: baseline\; color: inherit\;"><span style="margin: 0px\; padding: 0px\; border: 0px\; font-style: inherit\; font-variant-ligatures: inherit\; font-variant-position: inherit\; font-variant-caps: inherit\; font-variant-numeric: inherit\; font-variant-alternates: inherit\; font-variant-east-asian: inherit\; font-stretch: inherit\; line-height: inherit\; vertical-align: baseline\; color: inherit\;"><span style="margin: 0px\; padding: 0px\; border: 0px\; font-style: inherit\; font-variant-caps: inherit\; font-stretch: inherit\; line-height: inherit\; vertical-align: baseline\; color: inherit\;"><span style="margin: 0px\; padding: 0px\; border: 0px\; font-style: inherit\; font-variant-caps: inherit\; font-stretch: inherit\; line-height: inherit\; vertical-align: baseline\; color: inherit\;">&#8203\;</span>Building a regionally integrated manufacturing model by tapping on Singapore as a control tower for Southeast Asia</span></span></span></span></span></li>\n			<li style="text-align: justify\;"><span style="font-size:18px\;"><span style="margin: 0px\; padding: 0px\; border: 0px\; font-style: inherit\; font-variant-caps: inherit\; font-stretch: inherit\; line-height: inherit\; vertical-align: baseline\; color: rgb(0\, 0\, 0)\;"><span style="margin: 0px\; padding: 0px\; border: 0px\; font-style: inherit\; font-variant-ligatures: inherit\; font-variant-position: inherit\; font-variant-caps: inherit\; font-variant-numeric: inherit\; font-variant-alternates: inherit\; font-variant-east-asian: inherit\; font-stretch: inherit\; line-height: inherit\; vertical-align: baseline\; color: inherit\;"><span style="margin: 0px\; padding: 0px\; border: 0px\; font-style: inherit\; font-variant-ligatures: normal\; font-variant-caps: inherit\; font-variant-numeric: inherit\; font-variant-east-asian: inherit\; font-stretch: inherit\; line-height: inherit\; vertical-align: baseline\; color: inherit\;">Tapping on strategic partners and initiatives such as the Southeast Asia Manufacturing Alliance\, to benefit from the complementary strengths of regional manufacturing hubs in Southeast Asia</span></span></span></span></li>\n			<li style="text-align: justify\;"><span style="font-size:18px\;"><span style="margin: 0px\; padding: 0px\; border: 0px\; font-style: inherit\; font-variant-caps: inherit\; font-stretch: inherit\; line-height: inherit\; vertical-align: baseline\; color: rgb(0\, 0\, 0)\;"><span style="margin: 0px\; padding: 0px\; border: 0px\; font-style: inherit\; font-variant-ligatures: inherit\; font-variant-position: inherit\; font-variant-caps: inherit\; font-variant-numeric: inherit\; font-variant-alternates: inherit\; font-variant-east-asian: inherit\; font-stretch: inherit\; line-height: inherit\; vertical-align: baseline\; color: inherit\;"><span style="margin: 0px\; padding: 0px\; border: 0px\; font-style: inherit\; font-variant-ligatures: inherit\; font-variant-position: inherit\; font-variant-caps: inherit\; font-variant-numeric: inherit\; font-variant-alternates: inherit\; font-variant-east-asian: inherit\; font-stretch: inherit\; line-height: inherit\; vertical-align: baseline\; color: inherit\;"><span style="margin: 0px\; padding: 0px\; border: 0px\; font-style: inherit\; font-variant-caps: inherit\; font-stretch: inherit\; line-height: inherit\; vertical-align: baseline\; color: inherit\;"><span style="margin: 0px\; padding: 0px\; border: 0px\; font-style: inherit\; font-variant-caps: inherit\; font-stretch: inherit\; line-height: inherit\; vertical-align: baseline\; color: inherit\;"><span style="margin: 0px\; padding: 0px\; border: 0px\; font-style: inherit\; font-variant-ligatures: inherit\; font-variant-position: inherit\; font-variant-caps: inherit\; font-variant-numeric: inherit\; font-variant-alternates: inherit\; font-variant-east-asian: inherit\; font-stretch: inherit\; line-height: inherit\; vertical-align: baseline\; color: inherit\;">How tech companies can use a regional twinning model to manage talent and data centre infrastructure needs</span></span></span></span></span></span></span></li>\n		</ul>\n		</li>\n	</ul>\n	</li>\n	<li style="font-size: 12pt\; color: rgb(51\, 51\, 51)\; text-align: justify\;"><span style="font-size:18px\;"><span style="margin: 0px\; padding: 0px\; border: 0px\; font-style: inherit\; font-variant-caps: inherit\; font-stretch: inherit\; line-height: inherit\; vertical-align: baseline\; color: rgb(0\, 0\, 0)\;"><span style="margin: 0px\; padding: 0px\; border: 0px\; font-style: inherit\; font-variant-ligatures: inherit\; font-variant-position: inherit\; font-variant-caps: inherit\; font-variant-numeric: inherit\; font-variant-alternates: inherit\; font-variant-east-asian: inherit\; font-stretch: inherit\; line-height: inherit\; vertical-align: baseline\; color: inherit\;"><span style="margin: 0px\; padding: 0px\; border: 0px\; font-style: inherit\; font-variant-ligatures: inherit\; font-variant-position: inherit\; font-variant-caps: inherit\; font-variant-numeric: inherit\; font-variant-alternates: inherit\; font-variant-east-asian: inherit\; font-stretch: inherit\; line-height: inherit\; vertical-align: baseline\; color: inherit\;"><span style="margin: 0px\; padding: 0px\; border: 0px\; font-style: inherit\; font-variant-caps: inherit\; font-stretch: inherit\; line-height: inherit\; vertical-align: baseline\; color: inherit\;"><span style="margin: 0px\; padding: 0px\; border: 0px\; font-style: inherit\; font-variant-caps: inherit\; font-stretch: inherit\; line-height: inherit\; vertical-align: baseline\; color: inherit\;">Discussion on Singapore Committee work plan&nbsp\;2022</span></span></span></span></span></span></li>\n	<li style="font-size: 12pt\; color: rgb(51\, 51\, 51)\; text-align: justify\;"><span style="font-size:18px\;"><span style="margin: 0px\; padding: 0px\; border: 0px\; font-style: inherit\; font-variant-caps: inherit\; font-stretch: inherit\; line-height: inherit\; vertical-align: baseline\; color: rgb(0\, 0\, 0)\;"><span style="margin: 0px\; padding: 0px\; border: 0px\; font-style: inherit\; font-variant-ligatures: inherit\; font-variant-position: inherit\; font-variant-caps: inherit\; font-variant-numeric: inherit\; font-variant-alternates: inherit\; font-variant-east-asian: inherit\; font-stretch: inherit\; line-height: inherit\; vertical-align: baseline\; color: inherit\;"><span style="margin: 0px\; padding: 0px\; border: 0px\; font-style: inherit\; font-variant-ligatures: inherit\; font-variant-position: inherit\; font-variant-caps: inherit\; font-variant-numeric: inherit\; font-variant-alternates: inherit\; font-variant-east-asian: inherit\; font-stretch: inherit\; line-height: inherit\; vertical-align: baseline\; color: inherit\;"><span style="margin: 0px\; padding: 0px\; border: 0px\; font-style: inherit\; font-variant-caps: inherit\; font-stretch: inherit\; line-height: inherit\; vertical-align: baseline\; color: inherit\;"><span style="margin: 0px\; padding: 0px\; border: 0px\; font-style: inherit\; font-variant-caps: inherit\; font-stretch: inherit\; line-height: inherit\; vertical-align: baseline\; color: inherit\;">Closing Remarks&nbsp\;</span></span></span></span></span></span></li>\n</ol>\n\n<div class="x_p1" style="margin: 0cm\; font-variant-ligatures: normal\; orphans: 2\; widows: 2\; text-decoration-thickness: initial\;">&nbsp\;</div>\n
LOCATION:Zoom Meeting Zoom details will be provided upon registration
UID:e.9078.8716
SEQUENCE:3
DTSTAMP:20260422T192757Z
URL:http://usasean.memberzone.com/events/details/singapore-committee-call-q1-2022-8716
END:VEVENT

END:VCALENDAR
