BEGIN:VCALENDAR
VERSION:2.0
PRODID:-//ChamberMaster//Event Calendar 2.0//EN
METHOD:PUBLISH
X-PUBLISHED-TTL:P3D
REFRESH-INTERVAL:P3D
CALSCALE:GREGORIAN
BEGIN:VEVENT
DTSTART:20220222T010000Z
DTEND:20220222T023000Z
X-MICROSOFT-CDO-ALLDAYEVENT:FALSE
SUMMARY:Singapore Committee Call Q1 2022
DESCRIPTION:2022 Q1 Singapore Committee Call \n\n\n\nAgenda\n\n\n	Briefing by EDB on SIJORI\n	Discussion on Singapore Committee Work Plan 2022
X-ALT-DESC;FMTTYPE=text/html:<p class="x_p1" style="margin: 0cm\; font-variant-ligatures: normal\; orphans: 2\; widows: 2\; text-decoration-thickness: initial\;"><font color="#000000" face="Calibri\, sans-serif" size="2"><span style="caret-color: rgb(0\, 0\, 0)\;">2022 Q1 Singapore Committee Call&nbsp\;</span></font><br />\n<br />\n<u>Agenda</u></p>\n\n<ol>\n	<li class="x_p1" style="margin: 0cm\; font-variant-ligatures: normal\; orphans: 2\; widows: 2\; text-decoration-thickness: initial\;">Briefing by EDB on SIJORI</li>\n	<li class="x_p1" style="margin: 0cm\; font-variant-ligatures: normal\; orphans: 2\; widows: 2\; text-decoration-thickness: initial\;">Discussion on Singapore Committee Work Plan 2022</li>\n</ol>\n\n<div class="x_p1" style="margin: 0cm\; font-variant-ligatures: normal\; orphans: 2\; widows: 2\; text-decoration-thickness: initial\;">&nbsp\;</div>\n
LOCATION:Meeting Over Zoom (Link below) https://usasean.zoom.us/j/94276593521?pwd=T1J2cC83WVB2TS83Z2VRdGQ1by9xdz09 We strongly encourage you to join this call using the Zoom app/client by clicking the link above. This enables full functionality and minimal bandwidth issues. Meeting ID: 942 7659 3521 Password: 467717 Join by Skype for Business https://usasean.zoom.us/skype/94276593521
UID:e.9078.8715
SEQUENCE:3
DTSTAMP:20260422T193756Z
URL:http://usasean.memberzone.com/events/details/singapore-committee-call-q1-2022-8715
END:VEVENT

END:VCALENDAR
