BEGIN:VCALENDAR
VERSION:2.0
PRODID:-//ChamberMaster//Event Calendar 2.0//EN
METHOD:PUBLISH
X-PUBLISHED-TTL:P3D
REFRESH-INTERVAL:P3D
CALSCALE:GREGORIAN
BEGIN:VEVENT
DTSTART:20131009T143000Z
DTEND:20131009T160000Z
X-MICROSOFT-CDO-ALLDAYEVENT:FALSE
SUMMARY:Secretary Pritzker Event
DESCRIPTION:U.S. Secretary of Commerce Penny Pritzker
X-ALT-DESC;FMTTYPE=text/html:<span style="font-family:arial\,sans-serif\;"><span style="font-size:10.0pt\;">U.S. Secretary of Commerce Penny Pritzker</span></span>
LOCATION:Singapore University of Technology and Design Theater 2 20 Dover Drive Singapore 138682
UID:e.9078.930
SEQUENCE:3
DTSTAMP:20260421T124659Z
URL:http://usasean.memberzone.com/events/details/secretary-pritzker-event-10-09-2013-930
END:VEVENT

END:VCALENDAR
