BEGIN:VCALENDAR
VERSION:2.0
PRODID:-//ChamberMaster//Event Calendar 2.0//EN
METHOD:PUBLISH
X-PUBLISHED-TTL:P3D
REFRESH-INTERVAL:P3D
CALSCALE:GREGORIAN
BEGIN:VEVENT
DTSTART:20150514T013000Z
DTEND:20150514T023000Z
X-MICROSOFT-CDO-ALLDAYEVENT:FALSE
SUMMARY:Second Pre-Mission Call for for the 2015 ASEAN Customs Directors-General Meeting
DESCRIPTION:Please join us for the pre-mission planning call for our Mission to the 24th ASEAN Directors-General of Customs Meeting. The call will focus on themes for the bilateral discussions\, reviewing our advocacy paper\, scheduling\, and logistics.
X-ALT-DESC;FMTTYPE=text/html:Please join us for the pre-mission planning call for our Mission to the 24th ASEAN Directors-General of Customs Meeting. The call will focus on themes for the bilateral discussions\, reviewing our advocacy paper\, scheduling\, and logistics.
LOCATION:Teleconference
UID:e.9078.1542
SEQUENCE:3
DTSTAMP:20260419T115951Z
URL:http://usasean.memberzone.com/events/details/second-pre-mission-call-for-for-the-2015-asean-customs-directors-general-meeting-05-13-2015-1542
END:VEVENT

END:VCALENDAR
