BEGIN:VCALENDAR
VERSION:2.0
PRODID:-//ChamberMaster//Event Calendar 2.0//EN
METHOD:PUBLISH
X-PUBLISHED-TTL:P3D
REFRESH-INTERVAL:P3D
CALSCALE:GREGORIAN
BEGIN:VEVENT
DTSTART:20190808T010000Z
DTEND:20190808T020000Z
X-MICROSOFT-CDO-ALLDAYEVENT:FALSE
SUMMARY:Second Planning Call for the 2019 Thailand Business Mission
DESCRIPTION:Please join us for our second planning call for the upcoming 2019 Thailand Business Mission (August 13-16). Click here to register for the mission. The deadline to register is COB July 31.\n\n\n\nDuring the first part of the call\, Ms. Boosara Kanchanalai Charg  d'affaires of the Royal Thai Embassy\, Washington\, DC will provide a briefing on the latest political and economic developments in Thailand as well as an overview on current U.S.-Thailand relations. A short Q&A will follow Ms. Kanchanalai's remarks. A biography of Charg  d'affaires Kanchanalai can be accessed here.\n\n\n\nThe second part of the call will focus on the latest developments for the 2019 Thailand Business Mission\, where we will review the schedule and answer any final questions prior to the engagement. All members who are participating in the mission are highly encouraged to join the call.\n\n\n\nPlease contact Ella Duangkaew (eduangkaew@usasean.org) with any questions or input for the call.
X-ALT-DESC;FMTTYPE=text/html:<span style="font-family:arial\,sans-serif\;"><span style="font-size:12.0pt\;">Please join us for our second planning call for the upcoming 2019&nbsp\;Thailand Business Mission (August 13-16).&nbsp\;<a href="https://protect-us.mimecast.com/s/A7KAC68Mr3fVWXlumfXdA">Click here to register for the mission</a>.&nbsp\;<strong>The deadline to register is COB July 31.</strong><br />\n<br />\n<span style="color:black\;">During the first part of the call\, Ms. Boosara Kanchanalai&nbsp\;</span></span></span><span style="font-family: Roboto\, Arial\, sans-serif\; font-size: 16px\;">Charg&eacute\; d&rsquo\;affaires of the Royal Thai Embassy\, Washington\, DC</span><span style="font-family:arial\,sans-serif\;"><span style="font-size:12.0pt\;"><span style="color:black\;">&nbsp\;will provide a briefing on the&nbsp\;latest political and economic developments in Thailand as well as an overview on current U.S.-Thailand relations. A short Q&amp\;A will follow Ms. Kanchanalai&#39\;s remarks. A biography of </span></span></span><span style="font-family: Roboto\, Arial\, sans-serif\; font-size: 16px\;">Charg&eacute\; d&rsquo\;affaires&nbsp\;</span><span style="font-family:arial\,sans-serif\;"><span style="font-size:12.0pt\;"><span style="color:black\;">Kanchanalai can be</span> <a href="https://thaiembdc.org/about-the-embassy/dcm/">accessed here</a>.<br />\n<br />\n<span style="color:black\;">The second part of the call will focus on the latest developments for the 2019&nbsp\;Thailand Business Mission\, where we will review the schedule and answer any final questions prior to the engagement.&nbsp\;All members who are participating in the mission are highly encouraged to join the call.</span></span></span><br />\n<br />\n<span style="color:black\;"><span style="font-size: 12pt\;"><font face="arial\, sans-serif">Please contact Ella Duangkaew (eduangkaew@usasean.org)&nbsp\;with any questions or input for the call.</font></span></span>
LOCATION:Dial-in details will be distributed to registrants prior to call
UID:e.9078.7973
SEQUENCE:3
DTSTAMP:20260424T224113Z
URL:http://usasean.memberzone.com/events/details/second-planning-call-for-the-2019-thailand-business-mission-7973
END:VEVENT

END:VCALENDAR
