BEGIN:VCALENDAR
VERSION:2.0
PRODID:-//ChamberMaster//Event Calendar 2.0//EN
METHOD:PUBLISH
X-PUBLISHED-TTL:P3D
REFRESH-INTERVAL:P3D
CALSCALE:GREGORIAN
BEGIN:VEVENT
DTSTART:20180226T130000Z
DTEND:20180226T140000Z
X-MICROSOFT-CDO-ALLDAYEVENT:FALSE
SUMMARY:Second Planning Call for the 2018 Philippines Business Mission with DCM Michael Klecheski\, U.S. Embassy in Manila
DESCRIPTION:Please join us for the second planning call for the 2018 Philippines Business Mission (March 6-7).\n\n\n\nDuring the first part of the call\, Mr. Michael S. Klecheski\, Deputy Chief of Mission (DCM) at the U.S. Embassy in Manila\, will provide a briefing on US-Philippine relations.  In addition to providing an upate on political\, economic\, and security relations between the United States and the Philippines\, DCM Klecheski will also provide an update on the next steps in U.S.-Philippine relations following President Donald Trump's visit to the ASEAN summit in Manila last November.  A short Q&A will follow DCM Klecheski's briefing.  His bio can be found here.    \n\n\n\nThe second part of the call will focus on the 2018 Philippines Business Mission.  It will include an update on confirmed meetings and a discussion of speaking roles.  More details on the mission can be found here.  All members who are registered for the mission or who are considering participating are highly encouraged to join the call.\n\n\n\nIf you have any questions or input for the call\, please contact Riley Smith at rsmith@usasean.org.
X-ALT-DESC;FMTTYPE=text/html:Please join us for the second planning call for the <strong><a href="https://www.usasean.org/mission/registration">2018 Philippines Business Mission (March 6-7)</a></strong>.<br />\n<br />\nDuring the first part of the call\, Mr. Michael S. Klecheski\, Deputy Chief of Mission (DCM) at the U.S. Embassy in Manila\, will provide a briefing on US-Philippine relations.&nbsp\; In addition to providing an upate on political\, economic\, and security relations between the United States and the Philippines\, DCM Klecheski will also provide an update on the next steps in U.S.-Philippine relations following President Donald Trump&rsquo\;s visit to the ASEAN summit in Manila last November.&nbsp\; A short Q&amp\;A will follow DCM Klecheski&#39\;s briefing.&nbsp\; <a href="https://ph.usembassy.gov/our-relationship/dcm/">His bio can be found here.</a>&nbsp\; &nbsp\;&nbsp\;<br />\n<br />\nThe second part of the call will focus on the 2018 Philippines Business Mission.&nbsp\; It will include an update on confirmed meetings and a discussion of speaking roles.&nbsp\; <a href="http://usasean.memberzone.com/events/details/2018-philippines-business-mission-6445">More details on the mission can be found here.</a>&nbsp\; All members who are registered for the mission or who are considering participating are highly encouraged to join the call.<br />\n<br />\nIf you have any questions or input for the call\, please contact Riley Smith at rsmith@usasean.org.
LOCATION:Conference Call (dial-in details will be distributed to registrants)
UID:e.9078.6486
SEQUENCE:3
DTSTAMP:20260419T164833Z
URL:http://usasean.memberzone.com/events/details/second-planning-call-for-the-2018-philippines-business-mission-with-dcm-michael-klecheski-u-s-embassy-in-manila-6486
END:VEVENT

END:VCALENDAR
