BEGIN:VCALENDAR
VERSION:2.0
PRODID:-//ChamberMaster//Event Calendar 2.0//EN
METHOD:PUBLISH
X-PUBLISHED-TTL:P3D
REFRESH-INTERVAL:P3D
CALSCALE:GREGORIAN
BEGIN:VEVENT
DTSTART:20180320T010000Z
DTEND:20180320T020000Z
X-MICROSOFT-CDO-ALLDAYEVENT:FALSE
SUMMARY:Second Planning Call for the 2018 ASEAN Finance Ministers and Central Bank Governors Meeting
DESCRIPTION:Please join us for the second planning call for the 2018 Mission to the ASEAN Finance Ministers and Central Bank Governors Meeting (AFMGM).  The call will begin with a briefing from the U.S. Treasury and then discuss the Mission briefing paper and the agenda for the formal consultation with the Ministers and Governors.\n\n\n\nThe US-ASEAN Business Council is now registering senior financial services executives for its annual mission to the ASEAN Finance Ministers and Central Bank Governors Meeting. The AFMGM is the best opportunity of the year to meet ASEAN's finance leaders all at once in an open setting\, providing opportunities to learn and exchange perspectives on financial integration issues and the priorities of individual governments.  The Government of Singapore is the current Chairman of ASEAN and has identified the regional development of ASEAN's digital economy and e-Commerce as one of their top priorities in 2018.  The Mission will consist of a formal consultation session and bilateral meetings with the attending delegations. This year's meeting will be April 5 and 6 in Singapore. Please plan to arrive in time for an early morning start to our bilateral meetings on April 5. Click here to register for the Mission.
X-ALT-DESC;FMTTYPE=text/html:Please join us for the second planning call for the 2018 Mission to the ASEAN Finance Ministers and Central Bank Governors Meeting (AFMGM).&nbsp\;&#8203\;The call will begin with a briefing from the U.S. Treasury and then discuss the Mission briefing paper and the agenda for the formal consultation with the Ministers and Governors.<br />\n<br />\nThe US-ASEAN Business Council is now registering senior financial services executives for its annual mission to the ASEAN Finance Ministers and Central Bank Governors Meeting. The AFMGM is the best opportunity of the year to meet ASEAN&#39\;s finance leaders all at once in an open setting\, providing opportunities to learn and exchange perspectives on financial integration issues and the priorities of individual governments.&nbsp\; The Government of Singapore is the current Chairman of ASEAN and has identified the regional development of ASEAN&rsquo\;s digital economy and e-Commerce as one of their top priorities in 2018.&nbsp\; The Mission will consist of a formal consultation session and bilateral meetings with the attending delegations. This year&#39\;s meeting will be April 5 and 6 in Singapore. Please plan to arrive in time for an early morning start to our bilateral meetings on April 5. <a href="https://www.usasean.org/mission/registration">Click here to register for the Mission.</a>
LOCATION:Conference call (details will be distributed to registrants)
UID:e.9078.6496
SEQUENCE:3
DTSTAMP:20260419T184558Z
URL:http://usasean.memberzone.com/events/details/second-planning-call-for-the-2018-asean-finance-ministers-and-central-bank-governors-meeting-6496
END:VEVENT

END:VCALENDAR
