BEGIN:VCALENDAR
VERSION:2.0
PRODID:-//ChamberMaster//Event Calendar 2.0//EN
METHOD:PUBLISH
X-PUBLISHED-TTL:P3D
REFRESH-INTERVAL:P3D
CALSCALE:GREGORIAN
BEGIN:VEVENT
DTSTART:20240424T013000Z
DTEND:20240424T023000Z
X-MICROSOFT-CDO-ALLDAYEVENT:FALSE
SUMMARY:Second Planning Call for 2024 Malaysia Business Mission & East Malaysia Mission
DESCRIPTION:Second Planning Call for the\n\n			2024 Malaysia Business Mission\n\n			and\n\n			East Malaysia Business Mission\n		\n		\n			\n\n			 \n\n			Washington: Tuesday\, April 23\, 9:30-10:30 PM \n\n			\n\n			Kuala Lumpur: Wednesday\, April 24\, 10:30-11:30 AM
X-ALT-DESC;FMTTYPE=text/html:<table cellpadding="0" cellspacing="0" id="invitation" style="text-align: center\; margin: 0px auto\; width: 650px\;">\n	<tbody>\n		<tr>\n			<td colspan="3" id="event-info" style="padding: 20px 0px\; letter-spacing: 1px\; font-size: 16pt\; font-weight: bold\;"><span style="font-size:20px\;"><strong><span style="font-family: arial\;">Second Planning Call for the<br />\n			2024 Malaysia Business Mission<br />\n			and<br />\n			East Malaysia Business Mission</span></strong></span></td>\n		</tr>\n		<tr>\n			<td colspan="3" id="logistical-info" style="font-size: 12pt\;"><br />\n			<span style="font-size:14px\;"><span style="font-family: arial\;"><strong><span class="LineBreakBlob BlobObject DragDrop SCXW105594738 BCX0" style="margin: 0px\; padding: 0px\; user-select: text\; -webkit-user-drag: none\; -webkit-tap-highlight-color: transparent\; white-space-collapse: preserve\; line-height: 22.0875px\; color: rgb(36\, 36\, 36)\;"><span class="SCXW105594738 BCX0" style="margin: 0px\; padding: 0px\; user-select: text\; -webkit-user-drag: none\; -webkit-tap-highlight-color: transparent\; text-wrap: nowrap !important\;">&nbsp\;</span></span></strong><br />\n			<b>Washington:&nbsp\;</b>Tuesday\, April 23\, 9:30-10:30 PM&nbsp\;<br />\n			<br />\n			<b>Kuala Lumpur:&nbsp\;</b>Wednesday\, April 24\, 10:30-11:30 AM</span></span></td>\n		</tr>\n	</tbody>\n</table>\n
LOCATION:Virtual. Zoom dial-in details will be provided upon registration.
UID:e.9078.9280
SEQUENCE:3
DTSTAMP:20260422T072013Z
URL:http://usasean.memberzone.com/events/details/second-planning-call-for-2024-malaysia-business-mission-east-malaysia-mission-9280
END:VEVENT

END:VCALENDAR
