BEGIN:VCALENDAR
VERSION:2.0
PRODID:-//ChamberMaster//Event Calendar 2.0//EN
METHOD:PUBLISH
X-PUBLISHED-TTL:P3D
REFRESH-INTERVAL:P3D
CALSCALE:GREGORIAN
BEGIN:VEVENT
DTSTART:20240618T010000Z
DTEND:20240618T020000Z
X-MICROSOFT-CDO-ALLDAYEVENT:FALSE
SUMMARY:Second Planning Call: 2024 Thailand Travel Industry Dialogue and Tourism SME Workshop
DESCRIPTION:
X-ALT-DESC;FMTTYPE=text/html:
LOCATION:
UID:e.9078.9312
SEQUENCE:3
DTSTAMP:20260422T104631Z
URL:http://usasean.memberzone.com/events/details/second-planning-call-2024-thailand-travel-industry-dialogue-and-tourism-sme-workshop-9312
END:VEVENT

END:VCALENDAR
