BEGIN:VCALENDAR
VERSION:2.0
PRODID:-//ChamberMaster//Event Calendar 2.0//EN
METHOD:PUBLISH
X-PUBLISHED-TTL:P3D
REFRESH-INTERVAL:P3D
CALSCALE:GREGORIAN
BEGIN:VEVENT
DTSTART:20240327T020000Z
DTEND:20240327T030000Z
X-MICROSOFT-CDO-ALLDAYEVENT:FALSE
SUMMARY:Second Planning Call: 2024 Business Mission to the 11th AFMGM
DESCRIPTION:Second Planning Call for the 2024 Business Mission to the 11th ASEAN Finance Ministers and Central Bank Governors' Meeting (April 2 - 5\, 2024 in Luang Prabang\, Laos)
X-ALT-DESC;FMTTYPE=text/html:Second Planning Call for the 2024 Business Mission to the 11th ASEAN Finance Ministers and Central Bank Governors&#39\; Meeting (April 2 - 5\, 2024 in Luang Prabang\, Laos)
LOCATION:Zoom Link to be provided after registration
UID:e.9078.9260
SEQUENCE:3
DTSTAMP:20260422T052245Z
URL:http://usasean.memberzone.com/events/details/second-planning-call-2024-business-mission-to-the-11th-afmgm-9260
END:VEVENT

END:VCALENDAR
