BEGIN:VCALENDAR
VERSION:2.0
PRODID:-//ChamberMaster//Event Calendar 2.0//EN
METHOD:PUBLISH
X-PUBLISHED-TTL:P3D
REFRESH-INTERVAL:P3D
CALSCALE:GREGORIAN
BEGIN:VEVENT
DTSTART:20190801T130000Z
DTEND:20190801T140000Z
X-MICROSOFT-CDO-ALLDAYEVENT:FALSE
SUMMARY:Second Malaysia Mission Planning Call with Malaysian Ambassador Azmil Mohd. Zabidi
DESCRIPTION:
X-ALT-DESC;FMTTYPE=text/html:
LOCATION:
UID:e.9078.7962
SEQUENCE:3
DTSTAMP:20260424T224133Z
URL:http://usasean.memberzone.com/events/details/second-malaysia-mission-planning-call-with-malaysian-ambassador-azmil-mohd-zabidi-7962
END:VEVENT

END:VCALENDAR
