BEGIN:VCALENDAR
VERSION:2.0
PRODID:-//ChamberMaster//Event Calendar 2.0//EN
METHOD:PUBLISH
X-PUBLISHED-TTL:P3D
REFRESH-INTERVAL:P3D
CALSCALE:GREGORIAN
BEGIN:VEVENT
DTSTART:20140624T130000Z
DTEND:20140624T180000Z
X-MICROSOFT-CDO-ALLDAYEVENT:FALSE
SUMMARY:Second IICF Executive Committee Meeting
DESCRIPTION:Please join us for the Second Executive Committee meeting of the Indonesia ICT Consultative Forum (IICF). This meeting will focus on "Cyber Security and its Implications to Indonesia's Citizens and Banks." The meeting will be followed by a networking lunch. Click here for the agenda.\n\n \n\nThe IICF is a joint consultative body comprised of Government of Indonesia officials and representatives of the international and domestic ICT private sector. It is a collaborative platform\, which meets regularly\, between government and industry to support Indonesia's long-term industrial policy of building a local ICT industry and our shared goal of creating an innovation and knowledge economy in Indonesia.
X-ALT-DESC;FMTTYPE=text/html:Please join us for the Second Executive Committee meeting of the Indonesia ICT Consultative Forum (IICF). This meeting will focus on &ldquo\;Cyber Security and its Implications to Indonesia&rsquo\;s Citizens and Banks.&rdquo\; The meeting will be followed by a networking lunch. <span style="font-family:arial\,sans-serif\;"><span style="font-size:10.0pt\;"><a href="http://cloud.chambermaster.com/userfiles/UserFiles/chambers/9078/File/ICT/2014/Program-CyberSecurity-USABCrev6.pdf">Click here for the agenda</a>.</span></span><br />\n&nbsp\;<br />\nThe IICF is a joint consultative body comprised of Government of Indonesia officials and representatives of the international and domestic ICT private sector. It is a collaborative platform\, which meets regularly\, between government and industry to support Indonesia&rsquo\;s long-term industrial policy of building a local ICT industry and our shared goal of creating an innovation and knowledge economy in Indonesia.<br />\n&nbsp\;
LOCATION:Jakarta\, Indonesia Venue details will be provided to registrants prior to the meeting.
UID:e.9078.1167
SEQUENCE:3
DTSTAMP:20260420T160941Z
URL:http://usasean.memberzone.com/events/details/second-iicf-executive-committee-meeting-06-24-2014-1167
END:VEVENT

END:VCALENDAR
