BEGIN:VCALENDAR
VERSION:2.0
PRODID:-//ChamberMaster//Event Calendar 2.0//EN
METHOD:PUBLISH
X-PUBLISHED-TTL:P3D
REFRESH-INTERVAL:P3D
CALSCALE:GREGORIAN
BEGIN:VEVENT
DTSTART:20130517T150000Z
DTEND:20130517T160000Z
X-MICROSOFT-CDO-ALLDAYEVENT:FALSE
SUMMARY:Save the date / Invitation (Spore): Roundtable on Myanmar Infrastructure with Frances Zwenig\, May 17
DESCRIPTION:Invitation to a Roundtable Discussion on Myanmar and Infrastructure with Frances Zwenig on May 17\, in Singapore.
X-ALT-DESC;FMTTYPE=text/html:<span style="font-family:arial\,sans-serif\;"><span style="font-size:12.0pt\;">Invitation to a <u>Roundtable Discussion on Myanmar and Infrastructure with Frances Zwenig </u>on May 17\, in Singapore. &nbsp\;</span></span>
LOCATION:US-ASEAN Business Council 100 BeachRoad\, #22-04/05 Shaw Tower Singapore 189702
UID:e.9078.774
SEQUENCE:3
DTSTAMP:20260422T003605Z
URL:http://usasean.memberzone.com/events/details/save-the-date-invitation-spore-roundtable-on-myanmar-infrastructure-with-frances-zwenig-may-17-05-17-2013-774
END:VEVENT

END:VCALENDAR
