BEGIN:VCALENDAR
VERSION:2.0
PRODID:-//ChamberMaster//Event Calendar 2.0//EN
METHOD:PUBLISH
X-PUBLISHED-TTL:P3D
REFRESH-INTERVAL:P3D
CALSCALE:GREGORIAN
BEGIN:VEVENT
DTSTART:20141003T133000Z
DTEND:20141003T193000Z
X-MICROSOFT-CDO-ALLDAYEVENT:FALSE
SUMMARY:Roundtables With the U.S. Ambassadors to ASEAN\, Cambodia\, Indonesia\, Malaysia\, Singapore and USABC Country Representatives
DESCRIPTION:Roundtables with the U.S. Ambassadors to: ASEAN\, Cambodia\, Indonesia\, Malaysia\, Singapore\,\n\nand the Council's Senior Representatives to Vietnam and Thailand.\n\n*Please use this link to register for the roundtables of your choice*
X-ALT-DESC;FMTTYPE=text/html:Roundtables with the U.S. Ambassadors to:&nbsp\;ASEAN\,&nbsp\;Cambodia\,&nbsp\;Indonesia\,&nbsp\;Malaysia\,&nbsp\;Singapore\,<br />\nand&nbsp\;the Council&#39\;s Senior Representatives to&nbsp\;Vietnam and Thailand.<br />\n<strong><a href="https://www.surveymonkey.com/s/USABCRoundtableRegistration">*Please use this link to register for the roundtables of your choice*</a></strong>
LOCATION:Four Seasons Hotel 2800 Pennsylvania Avenue\, N.W. Washington\, DC Douglas Room
UID:e.9078.1261
SEQUENCE:3
DTSTAMP:20260420T021250Z
URL:http://usasean.memberzone.com/events/details/roundtables-with-the-u-s-ambassadors-to-asean-cambodia-indonesia-malaysia-singapore-and-usabc-country-representatives-10-03-2014-1261
END:VEVENT

END:VCALENDAR
