BEGIN:VCALENDAR
VERSION:2.0
PRODID:-//ChamberMaster//Event Calendar 2.0//EN
METHOD:PUBLISH
X-PUBLISHED-TTL:P3D
REFRESH-INTERVAL:P3D
CALSCALE:GREGORIAN
BEGIN:VEVENT
DTSTART:20181102T063000Z
DTEND:20181102T074500Z
X-MICROSOFT-CDO-ALLDAYEVENT:FALSE
SUMMARY:Roundtable with USTR Director for South-east Asian Affairs\, Bart Thanhauser
DESCRIPTION:Dear members\,\n\n			\n\n			Please join us for a roundtable discussion with Mr. Bart Thanhauser\, the Director of Southeast Asian Affairs of the United States Trade Representative (USTR). Mr. Thanhauser hopes to understand the private sectors' views or reactions towards the U.S. Government's recent review in Indonesia's Generalized System of Preferences (GSP) eligibility\; amendments to Government Regulation No. 82 of 2012 on Electronic Systems and Transactions\; as well as other interests and challenges in Indonesia. \n\n			\n\n			Mr. Thanhauser's biography may be accessed here.\n\n			\n\n			For questions\, please contact  Angga Antagia at aantagia@usasean.org) and Steven Gunawan at sgunawan@usasean.org.\n\n			\n\n			This roundtable is generously hosted by Mastercard Indonesia.
X-ALT-DESC;FMTTYPE=text/html:<table align="center" border="0" cellpadding="0" cellspacing="0" style="width:650px\;" width="650">\n	<tbody>\n		<tr>\n			<td style="padding:0cm 0cm 0cm 0cm\;"><span style="font-family:times new roman\,serif\;"><span style="font-size:12.0pt\;">Dear members\,<br />\n			<br />\n			Please join us for a roundtable discussion with Mr. Bart Thanhauser\, the Director of Southeast Asian Affairs of the United States Trade Representative (USTR). Mr. Thanhauser hopes to understand the private sectors&#39\; views or reactions towards the U.S. Government&#39\;s recent review in Indonesia&#39\;s Generalized System of Preferences (GSP) eligibility\;&nbsp\;amendments to Government Regulation No. 82 of 2012 on Electronic Systems and Transactions\; as well as&nbsp\;other interests and challenges in Indonesia.&nbsp\;<br />\n			<br />\n			Mr. Thanhauser&#39\;s biography may be accessed&nbsp\;<a href="https://usasean.sharepoint.com/:b:/s/MemberZoneFiles/EQ-K2DUxfrlFp1fEXLnoiDABFoXOsBFsDO53ZXJkngb6hw?e=YtvDyG">here.</a><br />\n			<br />\n			For questions\, please contact&nbsp\;&nbsp\;<strong>Angga Antagia</strong>&nbsp\;at <a href="mailto:aantagia@usasean.org">aantagia@usasean.org</a>) and&nbsp\;<strong>Steven Gunawan</strong>&nbsp\;at <a href="mailto:sgunawan@usasean.org">sgunawan@usasean.org</a>.<br />\n			<br />\n			This roundtable is generously hosted by Mastercard Indonesia.</span></span></td>\n		</tr>\n	</tbody>\n</table>\n\n<div style="clear:both\;">&nbsp\;</div>\n
LOCATION:
UID:e.9078.7731
SEQUENCE:3
DTSTAMP:20260420T121708Z
URL:http://usasean.memberzone.com/events/details/roundtable-with-ustr-director-for-south-east-asian-affairs-bart-thanhauser-7731
END:VEVENT

END:VCALENDAR
