BEGIN:VCALENDAR
VERSION:2.0
PRODID:-//ChamberMaster//Event Calendar 2.0//EN
METHOD:PUBLISH
X-PUBLISHED-TTL:P3D
REFRESH-INTERVAL:P3D
CALSCALE:GREGORIAN
BEGIN:VEVENT
DTSTART:20231205T030000Z
DTEND:20231205T040000Z
X-MICROSOFT-CDO-ALLDAYEVENT:FALSE
SUMMARY:Roundtable with USTR delegation
DESCRIPTION:The Council is pleased to invite you to the Roundtable with the U.S. Trade Representative delegation in Hanoi.
X-ALT-DESC;FMTTYPE=text/html:<span style="color: rgb(68\, 68\, 68)\; font-family: Arial\, Helvetica\, sans-serif\; font-size: 16px\;">The Council is pleased to invite you to the Roundtable with the U.S. Trade Representative delegation in Hanoi.</span>
LOCATION:In-person at Baker & McKenzie Hanoi office\, 10th floor\, IPH Building at 241 Xuan Thuy\, Cau Giay\, Hanoi\, Vietnam
UID:e.9078.9217
SEQUENCE:3
DTSTAMP:20260421T225818Z
URL:http://usasean.memberzone.com/events/details/roundtable-with-ustr-delegation-9217
END:VEVENT

END:VCALENDAR
