BEGIN:VCALENDAR
VERSION:2.0
PRODID:-//ChamberMaster//Event Calendar 2.0//EN
METHOD:PUBLISH
X-PUBLISHED-TTL:P3D
REFRESH-INTERVAL:P3D
CALSCALE:GREGORIAN
BEGIN:VEVENT
DTSTART:20190618T180000Z
DTEND:20190618T190000Z
X-MICROSOFT-CDO-ALLDAYEVENT:FALSE
SUMMARY:Roundtable with US Embassy in Singapore new CDA Rafik Mansour
DESCRIPTION:Roundtable with US Embassy in Singapore new CDA Rafik Mansour
X-ALT-DESC;FMTTYPE=text/html:Roundtable with US Embassy in Singapore new CDA Rafik Mansour&nbsp\;
LOCATION:US-ASEAN Business Council 1101 17th St NW\, Suite 411
UID:e.9078.7913
SEQUENCE:3
DTSTAMP:20260425T021801Z
URL:http://usasean.memberzone.com/events/details/roundtable-with-us-embassy-in-singapore-new-cda-rafik-mansour-7913
END:VEVENT

END:VCALENDAR
