BEGIN:VCALENDAR
VERSION:2.0
PRODID:-//ChamberMaster//Event Calendar 2.0//EN
METHOD:PUBLISH
X-PUBLISHED-TTL:P3D
REFRESH-INTERVAL:P3D
CALSCALE:GREGORIAN
BEGIN:VEVENT
DTSTART:20121211T193000Z
DTEND:20121211T203000Z
X-MICROSOFT-CDO-ALLDAYEVENT:FALSE
SUMMARY:Roundtable with U.S. Ambassador to Cambodia\, William E. Todd
DESCRIPTION:Roundtable with U.S. Ambassador to Cambodia\, William E. Todd
X-ALT-DESC;FMTTYPE=text/html:Roundtable with U.S. Ambassador to Cambodia\, William E. Todd
LOCATION:ConocoPhillips Millenia Tower # 40-02 One Temasek Avenue Singapore\, 039192
UID:e.9078.653
SEQUENCE:3
DTSTAMP:20260424T130158Z
URL:http://usasean.memberzone.com/events/details/roundtable-with-u-s-ambassador-to-cambodia-william-e-todd-12-11-2012-653
END:VEVENT

END:VCALENDAR
