BEGIN:VCALENDAR
VERSION:2.0
PRODID:-//ChamberMaster//Event Calendar 2.0//EN
METHOD:PUBLISH
X-PUBLISHED-TTL:P3D
REFRESH-INTERVAL:P3D
CALSCALE:GREGORIAN
BEGIN:VEVENT
DTSTART:20140822T130000Z
DTEND:20140822T140000Z
X-MICROSOFT-CDO-ALLDAYEVENT:FALSE
SUMMARY:Roundtable with the National Chamber of Commerce & Industry of Malaysia
DESCRIPTION:Roundtable Discussion with the National Chamber of Commerce & Industry of Malaysia
X-ALT-DESC;FMTTYPE=text/html:<span style="font-size:14px\;"><span style="font-family:arial\;">Roundtable Discussion with&nbsp\;the National Chamber of Commerce &amp\; Industry of Malaysia</span></span>
LOCATION:US-ASEAN Business Council 1101 17th Street NW Suite 411 Washington D.C. Call-in available
UID:e.9078.1231
SEQUENCE:3
DTSTAMP:20260420T074148Z
URL:http://usasean.memberzone.com/events/details/roundtable-with-the-national-chamber-of-commerce-industry-of-malaysia-08-22-2014-1231
END:VEVENT

END:VCALENDAR
