BEGIN:VCALENDAR
VERSION:2.0
PRODID:-//ChamberMaster//Event Calendar 2.0//EN
METHOD:PUBLISH
X-PUBLISHED-TTL:P3D
REFRESH-INTERVAL:P3D
CALSCALE:GREGORIAN
BEGIN:VEVENT
DTSTART:20180510T200000Z
DTEND:20180510T210000Z
X-MICROSOFT-CDO-ALLDAYEVENT:FALSE
SUMMARY:Roundtable with the Incoming Economic Team\, U.S. Embassy Hanoi
DESCRIPTION:The US-ASEAN Business Council is pleased to invite you to a roundtable with four USG officials who will be joining the Economic Section at the U.S. Embassy in Hanoi this summer:\n\n	Robert Gabor\, Economic Counselor\n	James Bangert\, Deputy Economic Chief\n	James Chynoweth\, Environment\, Science\, Technology and Health Officer\n	David Skorski\, Economic Officer (Energy\, Agriculture and Labor)\n\nThis off-the-record roundtable is the first opportunity to brief the new Econ officials to ensure they are fully briefed on your issues and concerns in Vietnam.
X-ALT-DESC;FMTTYPE=text/html:<span style="font-family:arial\,sans-serif\;">The US-ASEAN Business Council is pleased to invite you to a&nbsp\;roundtable with four USG officials who will be joining the Economic Section at the U.S. Embassy in Hanoi this summer:</span>\n<ul>\n	<li style="margin-bottom:8.0pt\;margin-left:0in\;line-height:105%\;"><strong><span style="font-family:arial\,sans-serif\;">Robert Gabor\, Economic Counselor</span></strong></li>\n	<li style="margin-bottom:8.0pt\;margin-left:0in\;line-height:105%\;"><strong><span style="font-family:arial\,sans-serif\;">James Bangert\, Deputy Economic Chief</span></strong></li>\n	<li style="margin-bottom:8.0pt\;margin-left:0in\;line-height:105%\;"><strong><span style="font-family:arial\,sans-serif\;">James Chynoweth\, Environment\, Science\, Technology and Health Officer</span></strong></li>\n	<li style="margin-bottom:8.0pt\;margin-left:0in\;line-height:105%\;"><strong><span style="font-family:arial\,sans-serif\;">David Skorski\, Economic Officer (Energy\, Agriculture and Labor)</span></strong></li>\n</ul>\n<span style="font-family:arial\,sans-serif\;">This off-the-record roundtable is the first opportunity to brief the new Econ officials to ensure they are fully briefed on your issues and concerns in Vietnam.</span><br />\n&nbsp\;
LOCATION:US-ASEAN Business Council 1101 17th Street NW\, Suite 411 Washington DC
UID:e.9078.6546
SEQUENCE:3
DTSTAMP:20260419T220503Z
URL:http://usasean.memberzone.com/events/details/roundtable-with-the-incoming-economic-team-u-s-embassy-hanoi-6546
END:VEVENT

END:VCALENDAR
