BEGIN:VCALENDAR
VERSION:2.0
PRODID:-//ChamberMaster//Event Calendar 2.0//EN
METHOD:PUBLISH
X-PUBLISHED-TTL:P3D
REFRESH-INTERVAL:P3D
CALSCALE:GREGORIAN
BEGIN:VEVENT
DTSTART:20180712T193000Z
DTEND:20180712T203000Z
X-MICROSOFT-CDO-ALLDAYEVENT:FALSE
SUMMARY:Roundtable with the Incoming Commercial Team\, U.S. Embassy Vietnam
DESCRIPTION:Member Roundtable with the incoming group of Commercial Officers who are headed to Vietnam in late July / early August. The officers include:\n\n	Eric Hsu\, Senior Commercial Officer\, U.S. Embassy\, Hanoi [Replacing Stuart Schaag]\n	Jim Curtis\, Commercial Officer\, U.S. Embassy\, Hanoi [Replacing Tim Cannon]\n	Ryan Hollowell\, Commercial Officer\, U.S. Consulate\, Ho Chi Minh City [Replacing Josh Liebowitz]
X-ALT-DESC;FMTTYPE=text/html:Member Roundtable with the incoming group of Commercial Officers who are headed to Vietnam in late July / early August. The officers include:\n<ol>\n	<li>Eric Hsu\, Senior Commercial Officer\, U.S. Embassy\, Hanoi <em>[Replacing Stuart Schaag]</em></li>\n	<li>Jim Curtis\, Commercial Officer\, U.S. Embassy\, Hanoi <em>[Replacing Tim Cannon]</em></li>\n	<li>Ryan Hollowell\, Commercial Officer\, U.S. Consulate\, Ho Chi Minh City <em>[Replacing Josh Liebowitz]</em></li>\n</ol>\n
LOCATION:US-ASEAN Business Council 1101 17th Street NW\, Ste. 411 Washington\, DC 20036
UID:e.9078.6603
SEQUENCE:3
DTSTAMP:20260420T020050Z
URL:http://usasean.memberzone.com/events/details/roundtable-with-the-incoming-commercial-team-u-s-embassy-vietnam-6603
END:VEVENT

END:VCALENDAR
