BEGIN:VCALENDAR
VERSION:2.0
PRODID:-//ChamberMaster//Event Calendar 2.0//EN
METHOD:PUBLISH
X-PUBLISHED-TTL:P3D
REFRESH-INTERVAL:P3D
CALSCALE:GREGORIAN
BEGIN:VEVENT
DTSTART:20180427T130000Z
DTEND:20180428T014500Z
X-MICROSOFT-CDO-ALLDAYEVENT:FALSE
SUMMARY:Roundtable with the Honorable Daniel Kritenbrink\, U.S. Ambassador to Vietnam
DESCRIPTION:Please join us for an off-the-record roundtable discussion with U.S. Ambassador to Vietnam Daniel Kritenbrink as he travels to Washington\, D.C. for the Council's annual U.S. Ambassadors' Tour.\n\n\n\nThis meeting will be an opportunity for members to hear the Ambassador's perspective on the state of Vietnam's bilateral relationship with the U.S\, the current economic and political climate in Vietnam and the U.S. government's priorities in ASEAN under the new administration\, and to raise any issues or opportunities for cooperation you may have.\, and to raise any issues or opportunities for cooperation you may have.\n\n\n\nYou can find Ambassador Kritenbrink's bio here.\n\n\n\nPlease contact Ella Duangkaew (eduangkaew@usasean.org) if you have any questions.
X-ALT-DESC;FMTTYPE=text/html:<span style="font-family:arial\,sans-serif\;"><span style="font-size:16px\;"><span style="font-family:arial\;">Please join us for an off-the-record roundtable discussion with U.S. Ambassador to Vietnam Daniel Kritenbrink as he travels to Washington\, D.C. for the Council&rsquo\;s annual U.S. Ambassadors&rsquo\; Tour.<br />\n<br />\nThis meeting will be an opportunity for members to hear the Ambassador&#39\;s perspective on the state of Vietnam&#39\;s bilateral relationship with the U.S\, the current economic and political climate in Vietnam and&nbsp\;the U.S. government&#39\;s priorities in ASEAN under the new administration\, and to raise any issues or opportunities for cooperation you may have.</span></span><span style="font-size:12.0pt\;"><span style="font-size:16px\;"><span style="font-family:arial\;">\, and to raise any issues or opportunities for cooperation you may have.</span></span><br />\n<br />\nYou can find Ambassador Kritenbrink&#39\;s&nbsp\;<a href="https://vn.usembassy.gov/our-relationship/our-ambassador/">bio here</a>.<br />\n<br />\nPlease contact Ella Duangkaew&nbsp\;(eduangkaew@usasean.org) if you have any questions.</span></span>
LOCATION:US-ASEAN Business Council 1101 17th St NW\, Suite 411 Washington\, DC
UID:e.9078.6526
SEQUENCE:3
DTSTAMP:20260419T205940Z
URL:http://usasean.memberzone.com/events/details/roundtable-with-the-honorable-daniel-kritenbrink-u-s-ambassador-to-vietnam-6526
END:VEVENT

END:VCALENDAR
