BEGIN:VCALENDAR
VERSION:2.0
PRODID:-//ChamberMaster//Event Calendar 2.0//EN
METHOD:PUBLISH
X-PUBLISHED-TTL:P3D
REFRESH-INTERVAL:P3D
CALSCALE:GREGORIAN
BEGIN:VEVENT
DTSTART:20180612T143000Z
DTEND:20180612T153000Z
X-MICROSOFT-CDO-ALLDAYEVENT:FALSE
SUMMARY:Roundtable with Senior-level Philippine Business Executives
DESCRIPTION:Please join us for a roundtable with a delegation of senior-level\, Philippine business executives to discuss topics such as the overall business climate in the Philippines and ways to strengthen U.S.-Philippine trade and investment ties. The business delegation is part of the U.S.-Philippines Strategic Initiative (UPSI)\, which plays a leading role in advancing a high-level policy dialogue on the U.S.-Philippine alliance. A full list of executives participating in this year's UPSI delegation can be found here.
X-ALT-DESC;FMTTYPE=text/html:Please join us for a roundtable with a delegation of senior-level\, Philippine business executives to discuss topics such as the overall business climate in the Philippines and ways to strengthen U.S.-Philippine trade and investment ties. The business delegation is part of the U.S.-Philippines Strategic Initiative (UPSI)\, which&nbsp\;plays a leading role in advancing a high-level policy dialogue on the U.S.-Philippine alliance. A full list of executives participating in this year&#39\;s UPSI&nbsp\;delegation can be found here.
LOCATION:US-ASEAN Business Council 1101 17th Street NW\, Suite 411 Washington\, D.C.
UID:e.9078.6575
SEQUENCE:3
DTSTAMP:20260420T015047Z
URL:http://usasean.memberzone.com/events/details/roundtable-with-senior-level-philippine-business-executives-6575
END:VEVENT

END:VCALENDAR
