BEGIN:VCALENDAR
VERSION:2.0
PRODID:-//ChamberMaster//Event Calendar 2.0//EN
METHOD:PUBLISH
X-PUBLISHED-TTL:P3D
REFRESH-INTERVAL:P3D
CALSCALE:GREGORIAN
BEGIN:VEVENT
DTSTART:20180522T020000Z
DTEND:20180522T033000Z
X-MICROSOFT-CDO-ALLDAYEVENT:FALSE
SUMMARY:Roundtable with Ronald Baumgarten\, Deputy Assistant U.S. Trade Representative for Southeast Asia and the Pacific (May 22\, Kuala Lumpur)
DESCRIPTION:Ronald Baumgarten\, the new Deputy Assistant U.S. Trade Representative for Southeast Asia and the Pacific is making his first trip to the region and will be working on the full range of bilateral issues. Ronald would like an update on the current financial services issues members are encountering in Malaysia.
X-ALT-DESC;FMTTYPE=text/html:<br />\n<font size="2"><span style="font-size:11pt\;">Ronald Baumgarten\, the new Deputy Assistant U.S. Trade Representative for Southeast Asia and the Pacific</span></font><font size="2"><span style="font-size:11pt\;"> is making his first trip to the region and will be working on the full range of bilateral issues. Ronald would like an update on the current financial services issues members are encountering in Malaysia.</span></font>
LOCATION:US-ASEAN Business Council 26th Floor\, Menara Maxis Kuala Lumpur City Centre 50088 Kuala Lumpur
UID:e.9078.6556
SEQUENCE:3
DTSTAMP:20260419T220502Z
URL:http://usasean.memberzone.com/events/details/roundtable-with-ronald-baumgarten-deputy-assistant-u-s-trade-representative-for-southeast-asia-and-the-pacific-may-22-kuala-lumpur-6556
END:VEVENT

END:VCALENDAR
