BEGIN:VCALENDAR
VERSION:2.0
PRODID:-//ChamberMaster//Event Calendar 2.0//EN
METHOD:PUBLISH
X-PUBLISHED-TTL:P3D
REFRESH-INTERVAL:P3D
CALSCALE:GREGORIAN
BEGIN:VEVENT
DTSTART:20180709T053000Z
DTEND:20180708T190000Z
X-MICROSOFT-CDO-ALLDAYEVENT:FALSE
SUMMARY:Roundtable with Robert Kaproth - Deputy Assistant Secretary (Asia) U.S. Department of the Treasury
DESCRIPTION:Robert Kaproth\, the Deputy Assistant Secretary for Asia at the U.S. Department of the Treasury is making a trip to the region and will be working on the full range of bilateral issues. Ronald will be meeting with the Ministry of Finance and Bank Negara Malaysia before this and will be able to update members on the outcome. He would appreciate update on the current financial services issues members are encountering in Malaysia.
X-ALT-DESC;FMTTYPE=text/html:<span style="font-size:14px\;"><strong>Robert Kaproth</strong>\, the Deputy Assistant Secretary for Asia at the U.S. Department of the Treasury is making a trip to the region and will be working on the full range of bilateral issues. Ronald will be meeting with the Ministry of Finance and Bank Negara Malaysia before this and will be able to update members on the outcome. He would appreciate update on the current financial services issues members are encountering in Malaysia.</span><br />\n<br />\n&nbsp\;
LOCATION:26th Floor\, Maxis Tower Kuala Lumpur City Centre 50088 Kuala Lumpur
UID:e.9078.6608
SEQUENCE:3
DTSTAMP:20260420T034026Z
URL:http://usasean.memberzone.com/events/details/roundtable-with-robert-kaproth-deputy-assistant-secretary-asia-u-s-department-of-the-treasury-6608
END:VEVENT

END:VCALENDAR
