BEGIN:VCALENDAR
VERSION:2.0
PRODID:-//ChamberMaster//Event Calendar 2.0//EN
METHOD:PUBLISH
X-PUBLISHED-TTL:P3D
REFRESH-INTERVAL:P3D
CALSCALE:GREGORIAN
BEGIN:VEVENT
DTSTART:20190807T133000Z
DTEND:20190807T143000Z
X-MICROSOFT-CDO-ALLDAYEVENT:FALSE
SUMMARY:Roundtable with Nguyen Van Suu\, Permanent Vice Chairman of the Hanoi People’s Committee
DESCRIPTION:Roundtable with Mr. Nguyen Van Suu\, Permanent Vice Chairman of the Hanoi People's Committee in Washington\, D.C. on agriculture cooperation.
X-ALT-DESC;FMTTYPE=text/html:Roundtable with Mr. Nguyen Van Suu\, Permanent Vice Chairman of the Hanoi People&#39\;s Committee in Washington\, D.C. on agriculture cooperation.
LOCATION:US-ASEAN Business Council 1101 17th Street NW\, Suite 411 Washington\, DC 20036
UID:e.9078.7982
SEQUENCE:3
DTSTAMP:20260424T224233Z
URL:http://usasean.memberzone.com/events/details/roundtable-with-nguyen-van-suu-permanent-vice-chairman-of-the-hanoi-people-s-committee-7982
END:VEVENT

END:VCALENDAR
